BEGIN:VCALENDAR
VERSION:2.0
PRODID:-//wp-events-plugin.com//7.2.3.1//EN
TZID:Europe/London
X-WR-TIMEZONE:Europe/London
BEGIN:VEVENT
UID:1599@contactdance.co.uk
DTSTART;TZID=Europe/London:20140727T160000
DTEND;TZID=Europe/London:20140727T190000
DTSTAMP:20140725T131319Z
URL:https://contactdance.co.uk/events/bristol-ci-sunday-class-jam-3-2014-0
 7-27/
SUMMARY:Bristol CI Sunday Class & Jam - DMAC\, (4th Floor) Hamilton House -
  27 Jul 14 16:00
DESCRIPTION:Beginner friendly pre-jam warmup class 4-5pm followed by the ja
 m 5.15-7pm. Doors will be closed for the duration of the class to keep the
  focus\, so please arrive early to attend the class\, you can arrive at an
 y time for the jam. Dancers can come just for the class\, £5\, or stay fo
 r the jam\, £8.\n\nFor more information feel free to contact the teacher
 /facilitator or info@contactdance.co.uk. We send out regular emails of cl
 ass descriptions\, to get these\, please sign-up to our mailing list.\nC
 lass Description\nBreath &amp\; Flow\nMany\, many months ago I led a class
  on Breath &amp\; Flow\, which went down a treat. For the last class of th
 e term we will revisit and develop this material\, focussing on breath awa
 reness\, initiating movement from breath\, lungs and heart\, and using our
  breathing rhythms like music to dance to. Let’s “sail” into the sum
 mer holidays!\nItta Howie\n\nThe Jam\nA jam is an informal gathering of da
 ncers. There is no teacher\, but space and time to develop skills and conf
 idence. You are free to dance\, rest\, or sit and watch\, as you wish. The
  jam provides an opportunity to explore and integrate techniques you have 
 learned\, and to find your own routes into dancing.\n\nAt some jams a teac
 her will facilitate a score to follow such as a focused (silent) jam\, the
  Underscore (developed by Nancy Stark-Smith)\, or a blindfold (or eyes-clo
 sed) jam\, this will normally be advertised via our regular mailout – so
  sign-up if you want advance notice.\n\n	Live musicians will improvise
  with the dancing at many of the jams.\n	For more information\, please ema
 il info@contactdance.co.uk or contact the individual teachers.\n
CATEGORIES:CI Jam
LOCATION:DMAC\, (4th Floor) Hamilton House\, 80 Stokes Croft\, Bristol\, BS
 1 3QY\, United Kingdom
GEO:51.4629;-2.58991
X-APPLE-STRUCTURED-LOCATION;VALUE=URI;X-ADDRESS=80 Stokes Croft\, Bristol\,
  BS1 3QY\, United Kingdom;X-APPLE-RADIUS=100;X-TITLE=DMAC\, (4th Floor) Ha
 milton House:geo:51.4629,-2.58991
END:VEVENT
BEGIN:VTIMEZONE
TZID:Europe/London
X-LIC-LOCATION:Europe/London
BEGIN:DAYLIGHT
DTSTART:20140330T020000
TZOFFSETFROM:+0000
TZOFFSETTO:+0100
TZNAME:BST
END:DAYLIGHT
END:VTIMEZONE
END:VCALENDAR