BEGIN:VCALENDAR
VERSION:2.0
PRODID:-//wp-events-plugin.com//7.2.3.1//EN
TZID:Europe/London
X-WR-TIMEZONE:Europe/London
BEGIN:VEVENT
UID:1634@contactdance.co.uk
DTSTART;TZID=Europe/London:20140928T170000
DTEND;TZID=Europe/London:20140928T203000
DTSTAMP:20140927T100503Z
URL:https://contactdance.co.uk/events/bristol-ci-sunday-class-jam-4-2014-0
 9-28/
SUMMARY:Bristol CI: Sunday Class & Jam - DMAC\, (4th Floor) Hamilton House 
 - 28 Sep 14 17:00
DESCRIPTION:Beginner friendly pre-jam warmup class 5-6.30pm followed by the
  jam 6.30-8.30pm. Doors will be closed for the duration of the class to ke
 ep the focus\, so please arrive early to attend the class\, you can arrive
  at any time for the jam. Dancers can come just for the class\, £6\, or s
 tay for the jam\, £9.\n\nFor more information feel free to contact the t
 eacher/facilitator or info@contactdance.co.uk. We send out regular emails
  of class descriptions\, to get these\, please sign-up to our mailing li
 st.\nClass Description\nFlying close to the ground Part2\n\nIn this 2 part
  class we will engage with the floor work in Contact Improvisation.\nThe i
 nspiration comes from watching the predator birds gliding very close to th
 e ground yet staying masterful and focused. The observation we will togeth
 er explore is - how we consciously bring our dance toolkit from upper leve
 ls to lower levels and vice versa.\nEach class will start with taking cons
 iderable amount of time for recognition and release of tension in the body
  to free up inner space. Next we'll explore our relationship to the floor 
 and the "last six inches"\, the underside and the backspace.\nThis will al
 low us to practice movement principles of rolling\, body surfing and falli
 ng and consequently establish a baseline for active participation in a due
 t.\nEach of the two classes is complete in itself\, but may vary in terms 
 of dynamic. All levels welcome.\n\nThe Jam\nA jam is an informal gathering
  of dancers. There is no teacher\, but space and time to develop skills an
 d confidence. You are free to dance\, rest\, or sit and watch\, as you wis
 h. The jam provides an opportunity to explore and integrate techniques you
  have learned\, and to find your own routes into dancing.\n\nAt some jams 
 a teacher will facilitate a score to follow such as a focused (silent) jam
 \, the Underscore (developed by Nancy Stark-Smith)\, or a blindfold (or ey
 es-closed) jam\, this will normally be advertised via our regular mailout 
 – so sign-up if you want advance notice.\n\n	Live musicians will imp
 rovise with the dancing at many of the jams.\n	For more information\, plea
 se email info@contactdance.co.uk or contact the individual teachers.\n
ATTACH;FMTTYPE=image/jpeg:https://contactdance.co.uk/wp-content/uploads/lo
 cations-pics/event-211-e1416260660609.jpg
CATEGORIES:CI Jam
LOCATION:DMAC\, (4th Floor) Hamilton House\, 80 Stokes Croft\, Bristol\, BS
 1 3QY\, United Kingdom
GEO:51.4629;-2.58991
X-APPLE-STRUCTURED-LOCATION;VALUE=URI;X-ADDRESS=80 Stokes Croft\, Bristol\,
  BS1 3QY\, United Kingdom;X-APPLE-RADIUS=100;X-TITLE=DMAC\, (4th Floor) Ha
 milton House:geo:51.4629,-2.58991
END:VEVENT
BEGIN:VTIMEZONE
TZID:Europe/London
X-LIC-LOCATION:Europe/London
BEGIN:DAYLIGHT
DTSTART:20140330T020000
TZOFFSETFROM:+0000
TZOFFSETTO:+0100
TZNAME:BST
END:DAYLIGHT
END:VTIMEZONE
END:VCALENDAR