BEGIN:VCALENDAR
VERSION:2.0
PRODID:-//wp-events-plugin.com//7.2.3.1//EN
TZID:Europe/London
X-WR-TIMEZONE:Europe/London
BEGIN:VEVENT
UID:1645@contactdance.co.uk
DTSTART;TZID=Europe/London:20141214T170000
DTEND;TZID=Europe/London:20141214T203000
DTSTAMP:20141213T203830Z
URL:https://contactdance.co.uk/events/bristol-ci-sunday-class-jam-4-2014-1
 2-14/
SUMMARY:Bristol CI: Sunday Class & Jam - DMAC\, (4th Floor) Hamilton House 
 - 14 Dec 14 17:00
DESCRIPTION:Beginner friendly pre-jam warmup class 5-6.30pm followed by the
  jam 6.30-8.30pm. Doors will be closed for the duration of the class to ke
 ep the focus\, so please arrive early to attend the class\, you can arrive
  at any time for the jam. Dancers can come just for the class\, £6\, or s
 tay for the jam\, £9.\n\nFor more information feel free to contact the t
 eacher/facilitator or info@contactdance.co.uk. We send out regular emails
  of class descriptions\, to get these\, please sign-up to our mailing li
 st.\nClass Description\nThis week we have a visiting teacher\, all the way
  from Ireland. Here is her Bio:\nTara Brandel is a contemporary dancer\, c
 horeograher and Contact Improv teacher\, and currently artistic Director o
 f Croi Glan\, an Integrated Dance company in Ireland (www.croiglan.com).\n
 \nShe trained in Contact Improv with Steve Paxton\, Juleyn Hamilton and 
 Kirstie Simpson. She has taught Contact Improvisation at Tanz Fabrik\, Pon
 derosa\, Seattle Festival of Dance and Improvisation (SFADI)\, West Coast 
 Contact Festival (San Francisco)\, GLACIER (USA)\, Liverpool Performing Ar
 ts School (LIPA) and Chisenhale Dance Space amongst others.\n\nMost recent
 ly she has taught Contact workshops in Melbourne\, Sydney and Toronto\, an
 d also teaches ongoing contact classes in West Cork Ireland where she live
 s.\nThe Jam\nA jam is an informal gathering of dancers. There is no teache
 r\, but space and time to develop skills and confidence. You are free to d
 ance\, rest\, or sit and watch\, as you wish. The jam provides an opportun
 ity to explore and integrate techniques you have learned\, and to find you
 r own routes into dancing.\n\nAt some jams a teacher will facilitate a sco
 re to follow such as a focused (silent) jam\, the Underscore (developed by
  Nancy Stark-Smith)\, or a blindfold (or eyes-closed) jam\, this will norm
 ally be advertised via our regular mailout – so sign-up if you want ad
 vance notice.\n\n	Live musicians will improvise with the dancing at many
  of the jams.\n	For more information\, please email info@contactdance.co.u
 k or contact the individual teachers.\n
ATTACH;FMTTYPE=image/jpeg:https://contactdance.co.uk/wp-content/uploads/lo
 cations-pics/event-211-e1416260660609.jpg
CATEGORIES:CI Jam
LOCATION:DMAC\, (4th Floor) Hamilton House\, 80 Stokes Croft\, Bristol\, BS
 1 3QY\, United Kingdom
GEO:51.4629;-2.58991
X-APPLE-STRUCTURED-LOCATION;VALUE=URI;X-ADDRESS=80 Stokes Croft\, Bristol\,
  BS1 3QY\, United Kingdom;X-APPLE-RADIUS=100;X-TITLE=DMAC\, (4th Floor) Ha
 milton House:geo:51.4629,-2.58991
END:VEVENT
BEGIN:VTIMEZONE
TZID:Europe/London
X-LIC-LOCATION:Europe/London
BEGIN:STANDARD
DTSTART:20141026T010000
TZOFFSETFROM:+0100
TZOFFSETTO:+0000
TZNAME:GMT
END:STANDARD
END:VTIMEZONE
END:VCALENDAR