BEGIN:VCALENDAR
VERSION:2.0
PRODID:-//wp-events-plugin.com//7.2.3.1//EN
TZID:Europe/London
X-WR-TIMEZONE:Europe/London
BEGIN:VEVENT
UID:1672@contactdance.co.uk
DTSTART;TZID=Europe/London:20150104T170000
DTEND;TZID=Europe/London:20150104T203000
DTSTAMP:20150102T145828Z
URL:https://contactdance.co.uk/events/bristol-ci-sunday-class-jam-4-2015-0
 1-04/
SUMMARY:Bristol CI: Sunday Class & Jam - DMAC\, (4th Floor) Hamilton House 
 - 4 Jan 15 17:00
DESCRIPTION:Beginner friendly pre-jam warmup class 5-6.30pm followed by the
  jam 6.30-8.30pm. Doors will be closed for the duration of the class to ke
 ep the focus\, so please arrive early to attend the class\, you can arrive
  at any time for the jam. Dancers can come just for the class\, £6\, or s
 tay for the jam\, £9.\n\nFor more information feel free to contact the t
 eacher/facilitator or info@contactdance.co.uk. We send out regular emails
  of class descriptions\, to get these\, please sign-up to our mailing li
 st.\nClass Description\nOne Prescription for a Jam...\n"The Underscore" is
  a framework for dancing\, describing and understanding the different thin
 gs that might happen in a contact improvisation jam\, formulated by Nancy 
 Stark Smith\, one of the originators of CI. This class will be inclusive a
 nd beginner friendly\, actively exploring some of the content of the under
 score.\nThis is an all action/no sitting around underscore\,that will re c
 irculate straight into the jam\, so if you are new or unconfident with the
  concept of underscore please come from the beginning. For the confident t
 here will be a window of opportunity to join in from 6.45. Please arrive e
 nergetically in the mind of the underscore if joining late.\n\nThe Jam\nA 
 jam is an informal gathering of dancers. There is no teacher\, but space a
 nd time to develop skills and confidence. You are free to dance\, rest\, o
 r sit and watch\, as you wish. The jam provides an opportunity to explore 
 and integrate techniques you have learned\, and to find your own routes in
 to dancing.\n\nFrom the warm-up class we will move into the jam\, continui
 ng our exploration of the underscore elements in a freely improvised forma
 t.\n\nHope you can come to both\, but it is OK to come to either on its ow
 n.\n\nFor more information\, please email info@contactdance.co.uk or conta
 ct the individual teachers.
ATTACH;FMTTYPE=image/jpeg:https://contactdance.co.uk/wp-content/uploads/lo
 cations-pics/event-211-e1416260660609.jpg
CATEGORIES:CI Jam
LOCATION:DMAC\, (4th Floor) Hamilton House\, 80 Stokes Croft\, Bristol\, BS
 1 3QY\, United Kingdom
GEO:51.4629;-2.58991
X-APPLE-STRUCTURED-LOCATION;VALUE=URI;X-ADDRESS=80 Stokes Croft\, Bristol\,
  BS1 3QY\, United Kingdom;X-APPLE-RADIUS=100;X-TITLE=DMAC\, (4th Floor) Ha
 milton House:geo:51.4629,-2.58991
END:VEVENT
BEGIN:VTIMEZONE
TZID:Europe/London
X-LIC-LOCATION:Europe/London
BEGIN:STANDARD
DTSTART:20141026T010000
TZOFFSETFROM:+0100
TZOFFSETTO:+0000
TZNAME:GMT
END:STANDARD
END:VTIMEZONE
END:VCALENDAR