BEGIN:VCALENDAR
VERSION:2.0
PRODID:-//wp-events-plugin.com//7.2.3.1//EN
TZID:Europe/London
X-WR-TIMEZONE:Europe/London
BEGIN:VEVENT
UID:1673@contactdance.co.uk
DTSTART;TZID=Europe/London:20150111T170000
DTEND;TZID=Europe/London:20150111T203000
DTSTAMP:20150109T073611Z
URL:https://contactdance.co.uk/events/bristol-ci-sunday-class-jam-4-2015-0
 1-11/
SUMMARY:Bristol CI: Sunday Class & Jam - DMAC\, (4th Floor) Hamilton House 
 - 11 Jan 15 17:00
DESCRIPTION:Beginner friendly pre-jam warmup class 5-6.30pm followed by the
  jam 6.30-8.30pm. Doors will be closed for the duration of the class to ke
 ep the focus\, so please arrive early to attend the class\, you can arrive
  at any time for the jam. Dancers can come just for the class\, £6\, or s
 tay for the jam\, £9.\n\nFor more information feel free to contact the t
 eacher/facilitator or info@contactdance.co.uk. We send out regular emails
  of class descriptions\, to get these\, please sign-up to our mailing li
 st.\nThe Class\nBack To Basics\n\nThis class will revisit the pattern of n
 aval radiation\, also no known as the starfish pattern. We will use it to 
 facilitate rolling at floor level\, as well as exploring the possibilities
  of rolling upwards against gravity in partner work and to roll on and off
  table position. It will also be used to explore our moving kinosphears\, 
 looking for the spaces as well as the moments of connection. Dancing in an
 d out of contact.\n\n\nThis pattern is very useful for connecting our cent
 re to our periphery in that it helps us move from our centre whilst still 
 being able to extend out into space. It is also useful for strengthening c
 ore mobility\, underpinning and bringing to consciousness a lot of what al
 ready happens in contact dance.\nFor those new to contact this will really
  get you moving\, and for those of you with experience it is a chance to r
 evisit one of the core techniques of improvisational movement.\n\n\nThe Ja
 m\nA jam is an informal gathering of dancers. There is no teacher\, but sp
 ace and time to develop skills and confidence. You are free to dance\, res
 t\, or sit and watch\, as you wish. The jam provides an opportunity to exp
 lore and integrate techniques you have learned\, and to find your own rout
 es into dancing.\n\nAt some jams a teacher will facilitate a score to foll
 ow such as a focused (silent) jam\, the Underscore (developed by Nancy Sta
 rk-Smith)\, or a blindfold (or eyes-closed) jam\, this will normally be ad
 vertised via our regular mailout – so sign-up if you want advance noti
 ce.\n\n	Live musicians will improvise with the dancing at many of the ja
 ms.\n	For more information\, please email info@contactdance.co.uk or conta
 ct the individual teachers.\n
ATTACH;FMTTYPE=image/jpeg:https://contactdance.co.uk/wp-content/uploads/lo
 cations-pics/event-211-e1416260660609.jpg
CATEGORIES:CI Jam
LOCATION:DMAC\, (4th Floor) Hamilton House\, 80 Stokes Croft\, Bristol\, BS
 1 3QY\, United Kingdom
GEO:51.4629;-2.58991
X-APPLE-STRUCTURED-LOCATION;VALUE=URI;X-ADDRESS=80 Stokes Croft\, Bristol\,
  BS1 3QY\, United Kingdom;X-APPLE-RADIUS=100;X-TITLE=DMAC\, (4th Floor) Ha
 milton House:geo:51.4629,-2.58991
END:VEVENT
BEGIN:VTIMEZONE
TZID:Europe/London
X-LIC-LOCATION:Europe/London
BEGIN:STANDARD
DTSTART:20141026T010000
TZOFFSETFROM:+0100
TZOFFSETTO:+0000
TZNAME:GMT
END:STANDARD
END:VTIMEZONE
END:VCALENDAR