BEGIN:VCALENDAR
VERSION:2.0
PRODID:-//wp-events-plugin.com//7.2.3.1//EN
TZID:Europe/London
X-WR-TIMEZONE:Europe/London
BEGIN:VEVENT
UID:1678@contactdance.co.uk
DTSTART;TZID=Europe/London:20150215T170000
DTEND;TZID=Europe/London:20150215T203000
DTSTAMP:20150212T232500Z
URL:https://contactdance.co.uk/events/bristol-ci-sunday-class-jam-4-2015-0
 2-15/
SUMMARY:Bristol CI: Sunday Class & Jam - DMAC\, (4th Floor) Hamilton House 
 - 15 Feb 15 17:00
DESCRIPTION:Beginner friendly pre-jam warmup class 5-6.30pm followed by the
  jam 6.30-8.30pm. Doors will be closed for the duration of the class to ke
 ep the focus\, so please arrive early to attend the class\, you can arrive
  at any time for the jam. Dancers can come just for the class\, £6\, or s
 tay for the jam\, £9.\n\nFor more information feel free to contact the t
 eacher/facilitator or info@contactdance.co.uk. We send out regular emails
  of class descriptions\, to get these\, please sign-up to our mailing li
 st.\nClass Description\n Space Dynamics 3 Starting from an internal awar
 eness of breath and of the space and movement that it creates inside and 
 outside our body\, visualizing and sensing the support offered by our ske
 letal structure and the mobility given by our joints\, we ll gradually e
 xpand our awareness to the overall space. We will play with the idea of 
 dance as a conversation\, alternating questioning and answering as tools 
 for dialogue with the shared space and in between each other\, from agree
 ments to disagreements\, we will play with possible solutions on how to i
 nvestigate ways into embodiment of space from our core.\n\nThe Jam\nA jam
  is an informal gathering of dancers. There is no teacher\, but space and 
 time to develop skills and confidence. You are free to dance\, rest\, or s
 it and watch\, as you wish. The jam provides an opportunity to explore and
  integrate techniques you have learned\, and to find your own routes into 
 dancing.\n\nAt some jams a teacher will facilitate a score to follow such 
 as a focused (silent) jam\, the Underscore (developed by Nancy Stark-Smith
 )\, or a blindfold (or eyes-closed) jam\, this will normally be advertised
  via our regular mailout – so sign-up if you want advance notice.\n\n	
 Live musicians will improvise with the dancing at many of the jams.\n	Fo
 r more information\, please email info@contactdance.co.uk or contact the i
 ndividual teachers.\n
ATTACH;FMTTYPE=image/jpeg:https://contactdance.co.uk/wp-content/uploads/lo
 cations-pics/event-211-e1416260660609.jpg
CATEGORIES:CI Jam
LOCATION:DMAC\, (4th Floor) Hamilton House\, 80 Stokes Croft\, Bristol\, BS
 1 3QY\, United Kingdom
GEO:51.4629;-2.58991
X-APPLE-STRUCTURED-LOCATION;VALUE=URI;X-ADDRESS=80 Stokes Croft\, Bristol\,
  BS1 3QY\, United Kingdom;X-APPLE-RADIUS=100;X-TITLE=DMAC\, (4th Floor) Ha
 milton House:geo:51.4629,-2.58991
END:VEVENT
BEGIN:VTIMEZONE
TZID:Europe/London
X-LIC-LOCATION:Europe/London
BEGIN:STANDARD
DTSTART:20141026T010000
TZOFFSETFROM:+0100
TZOFFSETTO:+0000
TZNAME:GMT
END:STANDARD
END:VTIMEZONE
END:VCALENDAR