BEGIN:VCALENDAR
VERSION:2.0
PRODID:-//wp-events-plugin.com//7.2.3.1//EN
TZID:Europe/London
X-WR-TIMEZONE:Europe/London
BEGIN:VEVENT
UID:1682@contactdance.co.uk
DTSTART;TZID=Europe/London:20150315T170000
DTEND;TZID=Europe/London:20150315T203000
DTSTAMP:20150313T165727Z
URL:https://contactdance.co.uk/events/bristol-ci-sunday-class-jam-4-2015-0
 3-15/
SUMMARY:Bristol CI: Sunday Class & Jam - DMAC\, (4th Floor) Hamilton House 
 - 15 Mar 15 17:00
DESCRIPTION:Beginner friendly pre-jam warmup class 5-6.30pm followed by the
  jam 6.30-8.30pm. Doors will be closed for the duration of the class to ke
 ep the focus\, so please arrive early to attend the class\, you can arrive
  at any time for the jam. Dancers can come just for the class\, £6\, or s
 tay for the jam\, £9.\n\nFor more information feel free to contact the t
 eacher/facilitator or info@contactdance.co.uk. We send out regular emails
  of class descriptions\, to get these\, please sign-up to our mailing li
 st.\nClass Description\n"The Underscore" is a framework for dancing\, desc
 ribing and understanding the different things that might happen in a conta
 ct improvisation jam\, formulated by Nancy Stark Smith\, one of the origin
 ators of CI. This class will be inclusive and beginner friendly\, actively
  exploring some of the content of the underscore. \n\nFrom the warm-up cla
 ss we will move into the jam\, continuing our exploration of the underscor
 e elements in a freely improvised format.\nThe Jam\nA jam is an informal g
 athering of dancers. There is no teacher\, but space and time to develop s
 kills and confidence. You are free to dance\, rest\, or sit and watch\, as
  you wish. The jam provides an opportunity to explore and integrate techni
 ques you have learned\, and to find your own routes into dancing.\n\nAt so
 me jams a teacher will facilitate a score to follow such as a focused (sil
 ent) jam\, the Underscore (developed by Nancy Stark-Smith)\, or a blindfol
 d (or eyes-closed) jam\, this will normally be advertised via our regular 
 mailout – so sign-up if you want advance notice.\n\n	Live musicians 
 will improvise with the dancing at many of the jams.\n	For more informatio
 n\, please email info@contactdance.co.uk or contact the individual teache
 rs.\n
ATTACH;FMTTYPE=image/jpeg:https://contactdance.co.uk/wp-content/uploads/lo
 cations-pics/event-211-e1416260660609.jpg
CATEGORIES:CI Jam
LOCATION:DMAC\, (4th Floor) Hamilton House\, 80 Stokes Croft\, Bristol\, BS
 1 3QY\, United Kingdom
GEO:51.4629;-2.58991
X-APPLE-STRUCTURED-LOCATION;VALUE=URI;X-ADDRESS=80 Stokes Croft\, Bristol\,
  BS1 3QY\, United Kingdom;X-APPLE-RADIUS=100;X-TITLE=DMAC\, (4th Floor) Ha
 milton House:geo:51.4629,-2.58991
END:VEVENT
BEGIN:VTIMEZONE
TZID:Europe/London
X-LIC-LOCATION:Europe/London
BEGIN:STANDARD
DTSTART:20141026T010000
TZOFFSETFROM:+0100
TZOFFSETTO:+0000
TZNAME:GMT
END:STANDARD
END:VTIMEZONE
END:VCALENDAR