BEGIN:VCALENDAR
VERSION:2.0
PRODID:-//wp-events-plugin.com//7.2.3.1//EN
TZID:Europe/London
X-WR-TIMEZONE:Europe/London
BEGIN:VEVENT
UID:1758@contactdance.co.uk
DTSTART;TZID=Europe/London:20150705T183000
DTEND;TZID=Europe/London:20150705T220000
DTSTAMP:20150703T170839Z
URL:https://contactdance.co.uk/events/bristol-ci-sunday-class-jam-5-2015-0
 7-05/
SUMMARY:Bristol CI: Sunday Class & Jam - DMAC\, (4th Floor) Hamilton House 
 - 5 Jul 15 18:30
DESCRIPTION:&nbsp\;\nPlease note there is no class 5 to 6:30 on this date. 
 The jam will run as normal 6:30 to 8:30\nThe Jam\n\nA jam is an informal g
 athering of dancers. There is no teacher\, but space and time to develop s
 kills and confidence. You are free to dance\, rest\, or sit and watch\, as
  you wish. The jam provides an opportunity to explore and integrate techni
 ques you have learned\, and to find your own routes into dancing.\n\nAt so
 me jams a teacher will facilitate a score to follow such as a focused (sil
 ent) jam\, the Underscore (developed by Nancy Stark-Smith)\, or a blindfol
 d (or eyes-closed) jam\, this will normally be advertised via our regular 
 mailout – so sign-up if you want advance notice.\n\n	Live musicians 
 will improvise with the dancing at many of the jams.\n	For more informatio
 n\, please email info@contactdance.co.uk or contact the individual teache
 rs.\n
ATTACH;FMTTYPE=image/jpeg:https://contactdance.co.uk/wp-content/uploads/20
 11/04/jocasta.jpg
CATEGORIES:CI Jam
LOCATION:DMAC\, (4th Floor) Hamilton House\, 80 Stokes Croft\, Bristol\, BS
 1 3QY\, United Kingdom
GEO:51.4629;-2.58991
X-APPLE-STRUCTURED-LOCATION;VALUE=URI;X-ADDRESS=80 Stokes Croft\, Bristol\,
  BS1 3QY\, United Kingdom;X-APPLE-RADIUS=100;X-TITLE=DMAC\, (4th Floor) Ha
 milton House:geo:51.4629,-2.58991
END:VEVENT
BEGIN:VTIMEZONE
TZID:Europe/London
X-LIC-LOCATION:Europe/London
BEGIN:DAYLIGHT
DTSTART:20150329T020000
TZOFFSETFROM:+0000
TZOFFSETTO:+0100
TZNAME:BST
END:DAYLIGHT
END:VTIMEZONE
END:VCALENDAR