BEGIN:VCALENDAR
VERSION:2.0
PRODID:-//wp-events-plugin.com//7.2.3.1//EN
TZID:Europe/London
X-WR-TIMEZONE:Europe/London
BEGIN:VEVENT
UID:1866@contactdance.co.uk
DTSTART;TZID=Europe/London:20151101T170000
DTEND;TZID=Europe/London:20151101T203000
DTSTAMP:20151027T225411Z
URL:https://contactdance.co.uk/events/bristol-ci-sunday-class-jam-6-2015-1
 1-01/
SUMMARY:Bristol CI: The Moving Underscore - DMAC\, (4th Floor) Hamilton Hou
 se - 1 Nov 15 17:00
DESCRIPTION:Really want to get confident with how to Jam?\nThis will give y
 ou everything you need to know.\nThe how\, the what\, the where you are in
  the dance space at any given moment.\nThe underscore is a practice based 
 around the observations made a\nnd notated by Nancy Stark Smith\, (one of 
 the pioneers of Contact Improvisation Dance).\nNancy has over time observe
 d the ingredients that go in to a Jam.\nWhilst there are some staple ingre
 dients that a CI Jam will always need\, other ingredients are optional\, c
 onsequently CI Jams will always be experimental\, and unknown depending on
  what gets put in the pot (dance space).\nOk so enough with the Jam analog
 y perhaps.\nAgnieszka and I will lead you through the Jam space in an aliv
 e and moving way. There will not be a long talk through the ingredients\, 
 rather we will take you through them in movement.\nTHINGS YOU NEED TO BE A
 WARE OF!\n• We are TAKING OVER THE WHOLE CLASS AND JAM SPACE.\n• You n
 eed to arrive on time (especially if you have never done the underscore be
 fore)\n• Once the Jam starts we are happy for experienced Underscore jam
 mers to join\, but can cannot guarantee any one will be available to answe
 r the door\n• If you really know you want to come and can’t get there 
 on time contact us in advance of Sunday\, we may be able to sort something
  out.\n• Bring fruit\, juice or other goodies to share for the thanks gi
 ving at the end.\nABSOLUTLY NO EXPERIENCE REQUIRED AND WE AIM TO MAKE THIS
  EVENT AS ACCESSABLE AS POSSIBLE\, IF YOU HAVE ANY ENQUIRY’S PLEASE DO M
 ESSAGE US.\n\nhttps://www.facebook.com/events/1644301125823592/\n\ninfo@co
 ntactdance.co.uk
ATTACH;FMTTYPE=image/jpeg:https://contactdance.co.uk/wp-content/uploads/20
 12/12/fundamentals.jpg
CATEGORIES:CI Jam
LOCATION:DMAC\, (4th Floor) Hamilton House\, 80 Stokes Croft\, Bristol\, BS
 1 3QY\, United Kingdom
GEO:51.4629;-2.58991
X-APPLE-STRUCTURED-LOCATION;VALUE=URI;X-ADDRESS=80 Stokes Croft\, Bristol\,
  BS1 3QY\, United Kingdom;X-APPLE-RADIUS=100;X-TITLE=DMAC\, (4th Floor) Ha
 milton House:geo:51.4629,-2.58991
END:VEVENT
BEGIN:VTIMEZONE
TZID:Europe/London
X-LIC-LOCATION:Europe/London
BEGIN:STANDARD
DTSTART:20151025T010000
TZOFFSETFROM:+0100
TZOFFSETTO:+0000
TZNAME:GMT
END:STANDARD
END:VTIMEZONE
END:VCALENDAR