BEGIN:VCALENDAR
VERSION:2.0
PRODID:-//wp-events-plugin.com//7.2.3.1//EN
TZID:Europe/London
X-WR-TIMEZONE:Europe/London
BEGIN:VEVENT
UID:1870@contactdance.co.uk
DTSTART;TZID=Europe/London:20151129T170000
DTEND;TZID=Europe/London:20151129T203000
DTSTAMP:20151119T233443Z
URL:https://contactdance.co.uk/events/bristol-ci-sunday-class-jam-6-2015-1
 1-29/
SUMMARY:Bristol CI: Sunday Class & Jam - DMAC\, (4th Floor) Hamilton House 
 - 29 Nov 15 17:00
DESCRIPTION:We are excited to bring to you teachings of Sebastian Flegiel. 
 After probing what skills are most desired in our practicing CI here in Br
 istol myself (Agnieszka) and Sebastian have come up with this class descri
 ption:\n Responding to popular interest\, I'd like to work on  aikido mate
 rial in CI. Whilst cracking that\, we will work on using spirals in moveme
 nt and how spirals lead to partnering and lifting. During all that work I 
 will speak about methodology of teaching this material and how brake the i
 deas to step it up in terms of advancement in movement.\n\nSebastain Flegi
 el is a contact improvisation dancer and teacher with a broad experience o
 f various movement disciplines from contemporary dance through acrobatics\
 , gymnastics\, juggling to action theatre and physical theatre. Based in P
 oland (Lodz) and England (Brighton)\, he regulary teaches in his home coun
 try as well as abroad\,  is co funder of contactimprovisation.eu website a
 nd recently co created and run series of successfull and inspiring "Peacef
 ul Dynamics" workshop (together with Maga Radlowska).\nSebastian is dancin
 g CI\, on daily basis\, from 2001\, and started to teach in 2007. Being a 
 philosopher and engineer\, he understands movement from both artistic and 
 construction point of view. He is interested in broadening awareness in mo
 vement\, through conscious attention as well as understanding of physics o
 f bodies in motion.\n
ATTACH;FMTTYPE=image/jpeg:https://contactdance.co.uk/wp-content/uploads/20
 12/12/fundamentals.jpg
CATEGORIES:CI Class,CI Jam
LOCATION:DMAC\, (4th Floor) Hamilton House\, 80 Stokes Croft\, Bristol\, BS
 1 3QY\, United Kingdom
GEO:51.4629;-2.58991
X-APPLE-STRUCTURED-LOCATION;VALUE=URI;X-ADDRESS=80 Stokes Croft\, Bristol\,
  BS1 3QY\, United Kingdom;X-APPLE-RADIUS=100;X-TITLE=DMAC\, (4th Floor) Ha
 milton House:geo:51.4629,-2.58991
END:VEVENT
BEGIN:VTIMEZONE
TZID:Europe/London
X-LIC-LOCATION:Europe/London
BEGIN:STANDARD
DTSTART:20151025T010000
TZOFFSETFROM:+0100
TZOFFSETTO:+0000
TZNAME:GMT
END:STANDARD
END:VTIMEZONE
END:VCALENDAR