BEGIN:VCALENDAR
VERSION:2.0
PRODID:-//wp-events-plugin.com//7.2.3.1//EN
TZID:Europe/London
X-WR-TIMEZONE:Europe/London
BEGIN:VEVENT
UID:1959@contactdance.co.uk
DTSTART;TZID=Europe/London:20160214T170000
DTEND;TZID=Europe/London:20160214T203000
DTSTAMP:20160208T220122Z
URL:https://contactdance.co.uk/events/bristol-ci-sunday-class-jam-7-2016-0
 2-14/
SUMMARY:Bristol CI: Sunday Class & Jam - DMAC\, (4th Floor) Hamilton House 
 - 14 Feb 16 17:00
DESCRIPTION:Beginner friendly pre-jam warmup class 5-6.30pm followed by the
  jam 6.30-8.30pm. Doors will be closed for the duration of the class to ke
 ep the focus\, so please arrive early to attend the class\, you can arrive
  at any time for the jam. Dancers can come just for the class\, £6\, or s
 tay for the jam\, £9.\n\nFor more information feel free to contact the t
 eacher/facilitator or info@contactdance.co.uk. We send out regular emails
  of class descriptions\, to get these\, please sign-up to our mailing li
 st.\nClass Description\n&nbsp\;\n\nLittle Lows\, Little Highs.\n\nPart wor
 k shop\, part lab this session will focus on key tools that help us be lif
 ted and if time help us be confident with lifting.\n\nI will lead a warm b
 ased around giving the body the patterns it needs\, that help facilitate 
 ‘flying’.\n\nExploring key ingredients like\, momentum\, gravity\, int
 ention\, continuous motion\, extension and gaze.\n\nBeing confident with l
 ifting is all about catching the moment of up\, not about how strong you a
 re or how big they are.\nThe Jam\nA jam is an informal gathering of dancer
 s. There is no teacher\, but space and time to develop skills and confiden
 ce. You are free to dance\, rest\, or sit and watch\, as you wish. The jam
  provides an opportunity to explore and integrate techniques you have lear
 ned\, and to find your own routes into dancing.\n\nAt some jams a teacher 
 will facilitate a score to follow such as a focused (silent) jam\, the Und
 erscore (developed by Nancy Stark-Smith)\, or a blindfold (or eyes-closed)
  jam\, this will normally be advertised via our regular mailout – so si
 gn-up if you want advance notice.\n\n	Live musicians will improvise wit
 h the dancing at many of the jams.\n	For more information\, please email i
 nfo@contactdance.co.uk or contact the individual teachers.\n
ATTACH;FMTTYPE=image/jpeg:https://contactdance.co.uk/wp-content/uploads/lo
 cations-pics/event-199.jpg
CATEGORIES:CI Class,CI Jam
LOCATION:DMAC\, (4th Floor) Hamilton House\, 80 Stokes Croft\, Bristol\, BS
 1 3QY\, United Kingdom
GEO:51.4629;-2.58991
X-APPLE-STRUCTURED-LOCATION;VALUE=URI;X-ADDRESS=80 Stokes Croft\, Bristol\,
  BS1 3QY\, United Kingdom;X-APPLE-RADIUS=100;X-TITLE=DMAC\, (4th Floor) Ha
 milton House:geo:51.4629,-2.58991
END:VEVENT
BEGIN:VTIMEZONE
TZID:Europe/London
X-LIC-LOCATION:Europe/London
BEGIN:STANDARD
DTSTART:20151025T010000
TZOFFSETFROM:+0100
TZOFFSETTO:+0000
TZNAME:GMT
END:STANDARD
END:VTIMEZONE
END:VCALENDAR