BEGIN:VCALENDAR
VERSION:2.0
PRODID:-//wp-events-plugin.com//7.2.3.1//EN
TZID:Europe/London
X-WR-TIMEZONE:Europe/London
BEGIN:VEVENT
UID:1960@contactdance.co.uk
DTSTART;TZID=Europe/London:20160221T170000
DTEND;TZID=Europe/London:20160221T203000
DTSTAMP:20160217T073642Z
URL:https://contactdance.co.uk/events/bristol-ci-sunday-class-jam-7-2016-0
 2-21/
SUMMARY:Bristol CI: Sunday Class & Jam - DMAC\, (4th Floor) Hamilton House 
 - 21 Feb 16 17:00
DESCRIPTION:Beginner friendly pre-jam warmup class 5-7pm (please note this 
 is an extra long class) followed by the jam 7-8.30pm. Doors will be closed
  for the duration of the class to keep the focus\, so please arrive early 
 to attend the class\, you can arrive at any time for the jam. Dancers can 
 come just for the class\, £6\, or stay for the jam\, £9.\n\nFor more inf
 ormation feel free to contact the teacher/facilitator or info@contactdan
 ce.co.uk. We send out regular emails of class descriptions\, to get these\
 , please sign-up to our mailing list.\nClass Description\nPlease note: E
 xtra long class flowing straight into Open Jam from 7pm\n\nA sea of people
  all moving in and around each other\nSometimes apart\, sometimes together
 .\nColliding Kinesphere’s\nRolling\, tumbling\, flying\nStanding\, snooz
 ing\, breathing\, laughing or maybe even crying.\nWhat the hell is going o
 n?\nBang goes the idiot button.\n\nBased on the observations of Nancy Star
 k Smith\, we will guide you in movement through the Underscore. Giving ins
 ight to the dynamics of any CI Jam you may encounter\, but also now a prac
 tice in its own right that brings focus to the dance.\n\nFacilitated By Ag
 nieszka Grenckowska and K’lo Harris.\n\nThe Jam\nA jam is an informal ga
 thering of dancers. There is no teacher\, but space and time to develop sk
 ills and confidence. You are free to dance\, rest\, or sit and watch\, as 
 you wish. The jam provides an opportunity to explore and integrate techniq
 ues you have learned\, and to find your own routes into dancing.\n\nAt som
 e jams a teacher will facilitate a score to follow such as a focused (sile
 nt) jam\, the Underscore (developed by Nancy Stark-Smith)\, or a blindfold
  (or eyes-closed) jam\, this will normally be advertised via our regular m
 ailout – so sign-up if you want advance notice.\n\n	Live musicians w
 ill improvise with the dancing at many of the jams.\n	For more information
 \, please email info@contactdance.co.uk or contact the individual teacher
 s.\n
ATTACH;FMTTYPE=image/jpeg:https://contactdance.co.uk/wp-content/uploads/lo
 cations-pics/event-199.jpg
CATEGORIES:CI Class,CI Jam
LOCATION:DMAC\, (4th Floor) Hamilton House\, 80 Stokes Croft\, Bristol\, BS
 1 3QY\, United Kingdom
GEO:51.4629;-2.58991
X-APPLE-STRUCTURED-LOCATION;VALUE=URI;X-ADDRESS=80 Stokes Croft\, Bristol\,
  BS1 3QY\, United Kingdom;X-APPLE-RADIUS=100;X-TITLE=DMAC\, (4th Floor) Ha
 milton House:geo:51.4629,-2.58991
END:VEVENT
BEGIN:VTIMEZONE
TZID:Europe/London
X-LIC-LOCATION:Europe/London
BEGIN:STANDARD
DTSTART:20151025T010000
TZOFFSETFROM:+0100
TZOFFSETTO:+0000
TZNAME:GMT
END:STANDARD
END:VTIMEZONE
END:VCALENDAR