BEGIN:VCALENDAR
VERSION:2.0
PRODID:-//wp-events-plugin.com//7.2.3.1//EN
TZID:Europe/London
X-WR-TIMEZONE:Europe/London
BEGIN:VEVENT
UID:1961@contactdance.co.uk
DTSTART;TZID=Europe/London:20160228T170000
DTEND;TZID=Europe/London:20160228T203000
DTSTAMP:20160225T225501Z
URL:https://contactdance.co.uk/events/bristol-ci-sunday-class-jam-7-2016-0
 2-28/
SUMMARY:Bristol CI: Sunday Class & Jam - DMAC\, (4th Floor) Hamilton House 
 - 28 Feb 16 17:00
DESCRIPTION:Beginner friendly pre-jam warmup class 5-6.30pm followed by the
  jam 6.30-8.30pm. Doors will be closed for the duration of the class to ke
 ep the focus\, so please arrive early to attend the class\, you can arrive
  at any time for the jam. Dancers can come just for the class\, £6\, or s
 tay for the jam\, £9.\n\nFor more information feel free to contact the t
 eacher/facilitator or info@contactdance.co.uk. We send out regular emails
  of class descriptions\, to get these\, please sign-up to our mailing li
 st.\nClass Description\n"This will be a journey through many different sta
 ges\, with partner and without\, to:\nopen up your awareness\nopen up your
  senses\nlisten to the group\nlisten to your own body\nobserve what you se
 e\nexplore the space\nexplore movement and different qualities of movement
 \nwake-up\, energise and be dynamic\nfind your place to rest\ndiscover the
  landscape of your body\nmove through levels from floor to standing\noffer
  support and make a conversation in your body\nembody the flow of the imag
 ination in movement and stillness\nand feel...\nand dance...\nand enjoy…
 "\n\n\n&nbsp\;\n\nAbout Maga: Graduating from LCDC and Middlesex Universit
 y in London\, Magdalena has fifteen years professional experience in conte
 mporary dance\, physical theatre\, contact improvisation and improvisation
 \, and has created and performed in many pieces in international festivals
  across Europe and the Middle East. Magdalena has worked with companies\, 
 dancers and choreographers such as Jose Vidal Company\, Bettina Carpi\, Pa
 weł Matyasik and Nadar Rosano. In 2013 and 2014 Magdalena performed for Z
 awirowanie Dance Theatre in Israel\, Sweden\, Lithuania\, Ukraine\, Hungar
 y\, Germany\, Croatia and Portugal. She has been taught by: Melissa Monter
 os\, Wojciech Mochniej\, Gabriella Koch\, Nita Little\, Ray Chung\, Daniel
  Kramer\, Frauke Requardt\, Robert Anderson\, Katy Dymoke\, Simonetta Alle
 sandri\, Rick Nodine\, Charlie Morrissey\, Thomas Kampe\, Andrew Harwood (
 GB). Magdalena was co-organiser for ECITE 2013 in Poland. Magdalena has be
 en nominated for scholarships and won several awards\, most recently winni
 ng first prize in the Warsaw Polish Platform Choreography Contest (Novembe
 r 2014). Her award-winning work in the community sector has been presented
  across Europe and attracted interest from national media.\n\n\nThe Jam\nA
  jam is an informal gathering of dancers. There is no teacher\, but space 
 and time to develop skills and confidence. You are free to dance\, rest\, 
 or sit and watch\, as you wish. The jam provides an opportunity to explore
  and integrate techniques you have learned\, and to find your own routes i
 nto dancing.\n\nAt some jams a teacher will facilitate a score to follow s
 uch as a focused (silent) jam\, the Underscore (developed by Nancy Stark-S
 mith)\, or a blindfold (or eyes-closed) jam\, this will normally be advert
 ised via our regular mailout – so sign-up if you want advance notice.\
 n\n	Live musicians will improvise with the dancing at many of the jams.\
 n	For more information\, please email info@contactdance.co.uk or contact t
 he individual teachers.\n
ATTACH;FMTTYPE=image/jpeg:https://contactdance.co.uk/wp-content/uploads/lo
 cations-pics/event-199.jpg
CATEGORIES:CI Class,CI Jam
LOCATION:DMAC\, (4th Floor) Hamilton House\, 80 Stokes Croft\, Bristol\, BS
 1 3QY\, United Kingdom
GEO:51.4629;-2.58991
X-APPLE-STRUCTURED-LOCATION;VALUE=URI;X-ADDRESS=80 Stokes Croft\, Bristol\,
  BS1 3QY\, United Kingdom;X-APPLE-RADIUS=100;X-TITLE=DMAC\, (4th Floor) Ha
 milton House:geo:51.4629,-2.58991
END:VEVENT
BEGIN:VTIMEZONE
TZID:Europe/London
X-LIC-LOCATION:Europe/London
BEGIN:STANDARD
DTSTART:20151025T010000
TZOFFSETFROM:+0100
TZOFFSETTO:+0000
TZNAME:GMT
END:STANDARD
END:VTIMEZONE
END:VCALENDAR