BEGIN:VCALENDAR
VERSION:2.0
PRODID:-//wp-events-plugin.com//7.2.3.1//EN
TZID:Europe/London
X-WR-TIMEZONE:Europe/London
BEGIN:VEVENT
UID:1962@contactdance.co.uk
DTSTART;TZID=Europe/London:20160306T170000
DTEND;TZID=Europe/London:20160306T203000
DTSTAMP:20160301T193451Z
URL:https://contactdance.co.uk/events/bristol-ci-sunday-class-jam-7-2016-0
 3-06/
SUMMARY:Bristol CI: Sunday Class & Jam - DMAC\, (4th Floor) Hamilton House 
 - 6 Mar 16 17:00
DESCRIPTION:Beginner friendly pre-jam warmup class 5-6.30pm followed by the
  jam 6.30-8.30pm. Doors will be closed for the duration of the class to ke
 ep the focus\, so please arrive early to attend the class\, you can arrive
  at any time for the jam. Dancers can come just for the class\, £6\, or s
 tay for the jam\, £9.\n\nFor more information feel free to contact the t
 eacher/facilitator or info@contactdance.co.uk. We send out regular emails
  of class descriptions\, to get these\, please sign-up to our mailing li
 st.\nClass Description\nLoving the ground\nIn this class we will make frie
 nds with the ground. There will be simple solo exercises\, links to human 
 developmental patterns and partner bodywork (suitable for all levels). We 
 will practice in twos and threes\, giving and receiving weight\, opening i
 nto a CI jam to use what we have learnt. Perfect for beginners or more exp
 erienced dancers who want to revisit fundamental principles.\n\nThe Class 
 is facilitated by Sam Bloomfield. Sam is a trainee Dance Movement Psychoth
 erapist and an experienced workshop leader and bodyworker. Email with ques
 tions to sam@sambloomfield.org.uk\n\nSam Bloomfield sam@sambloomfield.org.
 uk tel: 07527885150\n\nThe Jam\nA jam is an informal gathering of dancers.
  There is no teacher\, but space and time to develop skills and confidence
 . You are free to dance\, rest\, or sit and watch\, as you wish. The jam p
 rovides an opportunity to explore and integrate techniques you have learne
 d\, and to find your own routes into dancing.\n\nAt some jams a teacher wi
 ll facilitate a score to follow such as a focused (silent) jam\, the Under
 score (developed by Nancy Stark-Smith)\, or a blindfold (or eyes-closed) j
 am\, this will normally be advertised via our regular mailout – so sign
 -up if you want advance notice.\n\n	Live musicians will improvise with 
 the dancing at many of the jams.\n	For more information\, please email inf
 o@contactdance.co.uk or contact the individual teachers.\n
ATTACH;FMTTYPE=image/jpeg:https://contactdance.co.uk/wp-content/uploads/lo
 cations-pics/event-199.jpg
CATEGORIES:CI Class,CI Jam
LOCATION:DMAC\, (4th Floor) Hamilton House\, 80 Stokes Croft\, Bristol\, BS
 1 3QY\, United Kingdom
GEO:51.4629;-2.58991
X-APPLE-STRUCTURED-LOCATION;VALUE=URI;X-ADDRESS=80 Stokes Croft\, Bristol\,
  BS1 3QY\, United Kingdom;X-APPLE-RADIUS=100;X-TITLE=DMAC\, (4th Floor) Ha
 milton House:geo:51.4629,-2.58991
END:VEVENT
BEGIN:VTIMEZONE
TZID:Europe/London
X-LIC-LOCATION:Europe/London
BEGIN:STANDARD
DTSTART:20151025T010000
TZOFFSETFROM:+0100
TZOFFSETTO:+0000
TZNAME:GMT
END:STANDARD
END:VTIMEZONE
END:VCALENDAR