BEGIN:VCALENDAR
VERSION:2.0
PRODID:-//wp-events-plugin.com//7.2.3.1//EN
TZID:Europe/London
X-WR-TIMEZONE:Europe/London
BEGIN:VEVENT
UID:2020@contactdance.co.uk
DTSTART;TZID=Europe/London:20160619T170000
DTEND;TZID=Europe/London:20160619T203000
DTSTAMP:20160615T145503Z
URL:https://contactdance.co.uk/events/bristol-ci-sunday-class-jam-8-2016-0
 6-19/
SUMMARY:Bristol CI: Sunday Class & Jam - DMAC\, (4th Floor) Hamilton House 
 - 19 Jun 16 17:00
DESCRIPTION:Beginner friendly pre-jam warmup class 5-6.30pm followed by the
  jam 6.30-8.30pm. Doors will be closed for the duration of the class to ke
 ep the focus\, so please arrive early to attend the class\, you can arrive
  at any time for the jam. Dancers can come just for the class\, £6\, or s
 tay for the jam\, £9.\n\nFor more information feel free to contact the t
 eacher/facilitator orinfo@contactdance.co.uk. We send out regular emails 
 of class descriptions\, to get these\, please sign-up to our mailing lis
 t.\nClass Description\n&nbsp\;\n\n\n\nWe are very excited to have visiting
  teacher Jacqueline McCormick teaching tonight.\nJacqueline McCormick ha
 s been teaching\, performing and making dances for over thirty years. Her 
 work has been greatly influenced by her research into improvisation\, espe
 cially Contact Improvisation. Since 1990 Jacqueline has taught Contact Imp
 rovisation at numerous Contact Festivals and workshops throughout the USA 
 and Europe\, and from 1997-2000 she co-led the CI Teachers Lab in San Fran
 cisco\, California.\nJacqueline has a B.Ed in Human Movement Studies\, an 
 M.A degree in Dance from Mills College\, California\, and has been an Asso
 ciate Professor in Dance at Western Oregon University (1985- 1996) and Con
 necticut College\, USA (2000-2004). She has directed and performed in her 
 company DanceAbout\, works that take a dancing journey through the outback
  of the self. Her current inquiry is exploring site as contact partner. J
 acqueline was Artistic Director for Cheshire Dance from 2004-2016.\nAlong 
 with Contact Improvisation her curiosities lie in dance forms that emphasi
 se ‘process\,’ bringing the dance artist to engage the whole body-mind
 \, the feeling\, sensing\, learning and expressive being. She has taught w
 orkshops in New Dance Technique\, Authentic Movement and Ensemble Improvis
 ation. All of her work is informed by her extensive knowledge of the kines
 iology of the body. To have a look at Jacqueline’s solo film work click 
 on the links below…\n Settle www.vimeo.com/68956462\nOutside www.vimeo.
 com/68960956 \nParched Earth www.vimeo.com/68519471\n\n\n\n\n\n\nShe has j
 ust returned from teaching at the Italy Contact Festival in Amelia and is 
 excited to share some of the work she has been developing around Vulnerabi
 lity as power in Contact Improvisation and how a quiet listening centre pr
 epares for spiralling in partnership.\n\n\n\n\nThe Jam\nA jam is an inform
 al gathering of dancers. There is no teacher\, but space and time to devel
 op skills and confidence. You are free to dance\, rest\, or sit and watch\
 , as you wish. The jam provides an opportunity to explore and integrate te
 chniques you have learned\, and to find your own routes into dancing.\n\nA
 t some jams a teacher will facilitate a score to follow such as a focused 
 (silent) jam\, the Underscore (developed by Nancy Stark-Smith)\, or a blin
 dfold (or eyes-closed) jam\, this will normally be advertised via our regu
 lar mailout – so sign-up if you want advance notice.\n\n 	Live musici
 ans will improvise with the dancing at many of the jams.\n 	For more info
 rmation\, please email info@contactdance.co.uk or contact the individual 
 teachers.\n
ATTACH;FMTTYPE=image/jpeg:https://contactdance.co.uk/wp-content/uploads/20
 12/01/cropped-feet4.jpg
CATEGORIES:CI Class,CI Jam
LOCATION:DMAC\, (4th Floor) Hamilton House\, 80 Stokes Croft\, Bristol\, BS
 1 3QY\, United Kingdom
GEO:51.4629;-2.58991
X-APPLE-STRUCTURED-LOCATION;VALUE=URI;X-ADDRESS=80 Stokes Croft\, Bristol\,
  BS1 3QY\, United Kingdom;X-APPLE-RADIUS=100;X-TITLE=DMAC\, (4th Floor) Ha
 milton House:geo:51.4629,-2.58991
END:VEVENT
BEGIN:VTIMEZONE
TZID:Europe/London
X-LIC-LOCATION:Europe/London
BEGIN:DAYLIGHT
DTSTART:20160327T020000
TZOFFSETFROM:+0000
TZOFFSETTO:+0100
TZNAME:BST
END:DAYLIGHT
END:VTIMEZONE
END:VCALENDAR