BEGIN:VCALENDAR
VERSION:2.0
PRODID:-//wp-events-plugin.com//7.2.3.1//EN
TZID:Europe/London
X-WR-TIMEZONE:Europe/London
BEGIN:VEVENT
UID:2138@contactdance.co.uk
DTSTART;TZID=Europe/London:20161127T170000
DTEND;TZID=Europe/London:20161127T203000
DTSTAMP:20161123T211507Z
URL:https://contactdance.co.uk/events/bristol-ci-sunday-class-jam-9-2016-1
 1-27/
SUMMARY:Bristol CI: Sunday Class & Jam - DMAC\, (4th Floor) Hamilton House 
 - 27 Nov 16 17:00
DESCRIPTION:Beginner friendly pre-jam warmup class 5-6.30pm followed by the
  jam 6.30-8.30pm. Doors will be closed for the duration of the class to ke
 ep the focus\, so please arrive early to attend the class\, you can arrive
  at any time for the jam. Dancers can come just for the class\, £6\, or s
 tay for the jam\, £9. Both also available to book via MoveGB.\n\nFor more
  information feel free to contact the teacher/facilitator or info@contac
 tdance.co.uk. We send out regular emails of class descriptions\, to get th
 ese\, please sign-up to our mailing list.\nClass Description\n\n\nExplor
 ing contact improvisation through three qualities: snake\, cat and bear.\n
 In this warm-up workshop we will go from animal-body-work to movement scor
 es in duets and trios and as a group. We will use these movement qualities
  as ways of exploring under and over dancing\, safety and partnering.\n\nS
 am Bloomfield is a trainee dance movement psychotherapist and contact impr
 ovisation facilitator. He has an extensive bodywork\, dance\, poetry\, did
 geridoo\, performance and workshop facilitation background. This class is 
 inspired by Jamus Wood and his embodied presence work as well as many othe
 rs.\n\nOpen to beginners or experienced contact dancers the class will be 
 led in order to warm up and explore some skills used in the jam. Doors wil
 l be closed for the duration of the class to keep the focus\, so please ar
 rive early to attend the class.\nThe Jam\nA jam is an informal gathering o
 f dancers. There is no teacher\, but space and time to develop skills and 
 confidence. You are free to dance\, rest\, or sit and watch\, as you wish.
  The jam provides an opportunity to explore and integrate techniques you h
 ave learned\, and to find your own routes into dancing.\n\nAt some jams a 
 teacher will facilitate a score to follow such as a focused (silent) jam\,
  the Underscore (developed by Nancy Stark-Smith)\, or a blindfold (or eyes
 -closed) jam\, this will normally be advertised via our regular mailout 
 – so sign-up if you want advance notice.\n\n 	Live musicians will im
 provise with the dancing at many of the jams.\n 	For more information\, pl
 ease email info@contactdance.co.uk or contact the individual teachers.\n
ATTACH;FMTTYPE=image/jpeg:https://contactdance.co.uk/wp-content/uploads/20
 12/01/cropped-feet4.jpg
CATEGORIES:CI Class,CI Jam
LOCATION:DMAC\, (4th Floor) Hamilton House\, 80 Stokes Croft\, Bristol\, BS
 1 3QY\, United Kingdom
GEO:51.4629;-2.58991
X-APPLE-STRUCTURED-LOCATION;VALUE=URI;X-ADDRESS=80 Stokes Croft\, Bristol\,
  BS1 3QY\, United Kingdom;X-APPLE-RADIUS=100;X-TITLE=DMAC\, (4th Floor) Ha
 milton House:geo:51.4629,-2.58991
END:VEVENT
BEGIN:VTIMEZONE
TZID:Europe/London
X-LIC-LOCATION:Europe/London
BEGIN:STANDARD
DTSTART:20161030T010000
TZOFFSETFROM:+0100
TZOFFSETTO:+0000
TZNAME:GMT
END:STANDARD
END:VTIMEZONE
END:VCALENDAR