BEGIN:VCALENDAR
VERSION:2.0
PRODID:-//wp-events-plugin.com//7.2.3.1//EN
TZID:Europe/London
X-WR-TIMEZONE:Europe/London
BEGIN:VEVENT
UID:1775@contactdance.co.uk
DTSTART;TZID=Europe/London:20150605T130000
DTEND;TZID=Europe/London:20150607T170000
DTSTAMP:20150417T184559Z
URL:https://contactdance.co.uk/events/bristol-national-jam-2015/
SUMMARY:Bristol National Jam 2015 - ICIA\, Bath - 5 Jun 15 13:00
DESCRIPTION:Charlie Morrissey and Gesine Daniels will join us for this year
 's Bristol National Jam. Held in the beautiful dance studio in the brand n
 ew ICIA Bath.\n\nClasses\, underscore\, open jam\, live local musicians\, 
 social time and sharing.\n\nPlease join us for an exploration of this incr
 edible dance form.\n\nAll levels welcome.\n\n£80.00 Early bird (booking b
 efore 10th of May)\n£90.00 Full price (booking after 10th of May)\n\nBook
  here: \n\nhttp://contactdance2.apphb.com/bristol-national-jam-2015/Booki
 ngs/Create\n
CATEGORIES:CI Jam
LOCATION:ICIA\, Bath\, ICIA\, The Edge\, University of Bath\, Claverton Dow
 n\, Bath\, BA2 7AY\, United Kingdom
GEO:51.3804415;-2.3306731000000127
X-APPLE-STRUCTURED-LOCATION;VALUE=URI;X-ADDRESS=ICIA\, The Edge\, Universit
 y of Bath\, Claverton Down\, Bath\, BA2 7AY\, United Kingdom;X-APPLE-RADIU
 S=100;X-TITLE=ICIA\, Bath:geo:51.3804415,-2.3306731000000127
END:VEVENT
BEGIN:VTIMEZONE
TZID:Europe/London
X-LIC-LOCATION:Europe/London
BEGIN:DAYLIGHT
DTSTART:20150329T020000
TZOFFSETFROM:+0000
TZOFFSETTO:+0100
TZNAME:BST
END:DAYLIGHT
END:VTIMEZONE
END:VCALENDAR