BEGIN:VCALENDAR
VERSION:2.0
PRODID:-//wp-events-plugin.com//7.2.3.1//EN
TZID:Europe/London
X-WR-TIMEZONE:Europe/London
BEGIN:VEVENT
UID:2734@contactdance.co.uk
DTSTART;TZID=Europe/London:20240330T103000
DTEND;TZID=Europe/London:20240330T170000
DTSTAMP:20240123T142409Z
URL:https://contactdance.co.uk/events/bypass-the-judge-a-plentiful-day-of-
 playfulness-in-ci/
SUMMARY:Bypass the Judge – a plentiful day of... Playfulness in CI! - St.
  Michael's Parish Hall - 30 Mar 24 10:30
DESCRIPTION:\n\nA warm-up for April Fools' Day!\n\nA day beyond technique.\
 n\nWelcoming our judge or inner critic as someone to play with\, to love\,
  or to swear at.\n\nWe'll let go of applying what we've learnt &amp\; lear
 ning yet more (technique\, as well etiquette habits beyond consent\, that 
 buffer and encumber) and practice playing\, being silly\, being characterf
 ul (monstrous\, sassy\, naïve\, grumpy...)\, being fully in our emotions\
 , our provocateur\, rebel\, passivity\, activities...\n\nInviting and guid
 ing us in to a range of co-creative frames and scores to explore\, we'll f
 ocus (&amp\; blur)\, and give wings to inner beings\, born from inner spar
 ks\, combining with the gloriously combustible connections with others tha
 t take place in the moment of CI happening.\n\nFor CI dancers with at leas
 t some basic experience.\n\nLOCATION\nSt Michael's Parish Hall\, Bristol\,
  BS2 8BE\n\nTickets: https://www.tickettailor.com/events/asherlevinevents
 /1121670
ATTACH;FMTTYPE=image/jpeg:https://contactdance.co.uk/wp-content/uploads/20
 24/01/bypass.png
CATEGORIES:CI Workshop
LOCATION:St. Michael's Parish Hall\, Park Ln\, Bristol BS2 8BE\, Bristol\, 
 BS2 8BE\, United Kingdom
GEO:51.457;-2.59932
X-APPLE-STRUCTURED-LOCATION;VALUE=URI;X-ADDRESS=Park Ln\, Bristol BS2 8BE\,
  Bristol\, BS2 8BE\, United Kingdom;X-APPLE-RADIUS=100;X-TITLE=St. Michael
 's Parish Hall:geo:51.457,-2.59932
END:VEVENT
BEGIN:VTIMEZONE
TZID:Europe/London
X-LIC-LOCATION:Europe/London
BEGIN:STANDARD
DTSTART:20231029T010000
TZOFFSETFROM:+0100
TZOFFSETTO:+0000
TZNAME:GMT
END:STANDARD
END:VTIMEZONE
END:VCALENDAR