BEGIN:VCALENDAR
VERSION:2.0
PRODID:-//wp-events-plugin.com//7.2.3.1//EN
TZID:Europe/London
X-WR-TIMEZONE:Europe/London
BEGIN:VEVENT
UID:2473@contactdance.co.uk
DTSTART;TZID=Europe/London:20201011T180000
DTEND;TZID=Europe/London:20201011T200000
DTSTAMP:20201011T075126Z
URL:https://contactdance.co.uk/events/ci-class-6/
SUMMARY:CI Class - The Exercise Club - 11 Oct 20 18:00
DESCRIPTION:SOLD OUT\nWe will use Feldenkrais ‘Awareness Through Movement
 ' lessons to pay detailed attention to how we move in specific patterned s
 equences\, looking for pathways of ease and efficient action. Opening to t
 he space we will explore how these investigations can take us into sensing
  ourselves in relation to our environment and others\, by engaging our sen
 ses of touch\, vision and hearing.\n\n \nHaving studied contemporary and 
 improvisational dance\, Jackie Adkins taught Contact Improvisation in Lond
 on in the 1990s\, before qualifying as a Feldenkrais Practitioner in 2002.
  After nine years in North East Scotland where she ran her private Feldenk
 rais practice\, she relocated to Frome\, Somerset in 2014 where she is now
  based. She is an Associate Lecturer at Bath Spa University\, teaching mov
 ement skills on the BA Acting degree. More info: www.movetolive.uk. \nBoo
 k here
ATTACH;FMTTYPE=image/jpeg:https://contactdance.co.uk/wp-content/uploads/20
 20/09/jackie-e1601912462119.jpg
CATEGORIES:CI Class
LOCATION:The Exercise Club\, 213 Whiteladies Road\, Bristol\, BS8 2XS\, Uni
 ted Kingdom
GEO:51.4700637;-2.6144398000000137
X-APPLE-STRUCTURED-LOCATION;VALUE=URI;X-ADDRESS=213 Whiteladies Road\, Bris
 tol\, BS8 2XS\, United Kingdom;X-APPLE-RADIUS=100;X-TITLE=The Exercise Clu
 b:geo:51.4700637,-2.6144398000000137
END:VEVENT
BEGIN:VTIMEZONE
TZID:Europe/London
X-LIC-LOCATION:Europe/London
BEGIN:DAYLIGHT
DTSTART:20200329T020000
TZOFFSETFROM:+0000
TZOFFSETTO:+0100
TZNAME:BST
END:DAYLIGHT
END:VTIMEZONE
END:VCALENDAR