BEGIN:VCALENDAR
VERSION:2.0
PRODID:-//wp-events-plugin.com//7.2.3.1//EN
TZID:Europe/London
X-WR-TIMEZONE:Europe/London
BEGIN:VEVENT
UID:1617@contactdance.co.uk
DTSTART;TZID=Europe/London:20140716T190000
DTEND;TZID=Europe/London:20140716T210000
DTSTAMP:20140716T171406Z
URL:https://contactdance.co.uk/events/ci-class-with-holly-thomas/
SUMMARY:CI Class With Holly Thomas - The Willow Studio - 16 Jul 14 19:00
DESCRIPTION:I am leading the contact classes on the 16th and 23rd of July a
 t the Willow Studio 7 - 9 pm. The classes are open to any one with an inte
 rest in contact improvisation\, no previous experience is needed. Both cla
 sses will be accessible to visually impaired people. Please contact me if 
 you have any access requirements. It would be great to see you there!! Hol
 ly\n\n&nbsp\;\n\nClass one: Tuning in: We will spend time becoming aware o
 f and ‘tuning in’ to our senses and our dance. We will explore the tac
 tile and auditory space around us. From here we will find ways of connecti
 ng with each other in the space. Working with a partner we will explore li
 stening\, reading\, leading and following within our dance. During this cl
 ass we will spend some time working with eyes closed.\n\n&nbsp\;\n\nClass 
 two: (next week) pathways:We will explore some of the movement pathways a
 vailable to us when dancing in contact with our partner. Using rolling and
  surfing we will find the ‘over’ and ’under’ in the dance. We will
  then work from the point of contact to find our own pathways in the dance
 . There will be time for open jamming toward the end of the class.
CATEGORIES:CI Class
LOCATION:The Willow Studio\, St. Werburghs Primary School\, James Street\, 
 Bristol\, BS2 9US\, United Kingdom
GEO:51.4704;-2.57417
X-APPLE-STRUCTURED-LOCATION;VALUE=URI;X-ADDRESS=St. Werburghs Primary Schoo
 l\, James Street\, Bristol\, BS2 9US\, United Kingdom;X-APPLE-RADIUS=100;X
 -TITLE=The Willow Studio:geo:51.4704,-2.57417
END:VEVENT
BEGIN:VTIMEZONE
TZID:Europe/London
X-LIC-LOCATION:Europe/London
BEGIN:DAYLIGHT
DTSTART:20140330T020000
TZOFFSETFROM:+0000
TZOFFSETTO:+0100
TZNAME:BST
END:DAYLIGHT
END:VTIMEZONE
END:VCALENDAR