BEGIN:VCALENDAR
VERSION:2.0
PRODID:-//wp-events-plugin.com//7.2.3.1//EN
TZID:Europe/London
X-WR-TIMEZONE:Europe/London
BEGIN:VEVENT
UID:1615@contactdance.co.uk
DTSTART;TZID=Europe/London:20140702T190000
DTEND;TZID=Europe/London:20140702T210000
DTSTAMP:20140625T082449Z
URL:https://contactdance.co.uk/events/ci-class-with-lisa-may-thomas/
SUMMARY:CI Class With Lisa May Thomas - The Willow Studio - 2 Jul 14 19:00
DESCRIPTION:Two classes with Lisa May Thomas\;\nSession 1 (TODAY!)\nFollow\
 , help\, hinder - working with the idea of following\, supporting the flow
  and moving against the flow.\nA lead session with Lisa May Thomas leading
  into time for open jam space\n\n\n\nSession 2 (next week)\nMoving from ou
 r own dancing spaces to dancing with each other\, moving through layers of
  air\, body surfaces and deep tissues to connect with each other.\nA lead 
 session with Lisa May Thomas leading into time for open jam space
CATEGORIES:CI Class
LOCATION:The Willow Studio\, St. Werburghs Primary School\, James Street\, 
 Bristol\, BS2 9US\, United Kingdom
GEO:51.4704;-2.57417
X-APPLE-STRUCTURED-LOCATION;VALUE=URI;X-ADDRESS=St. Werburghs Primary Schoo
 l\, James Street\, Bristol\, BS2 9US\, United Kingdom;X-APPLE-RADIUS=100;X
 -TITLE=The Willow Studio:geo:51.4704,-2.57417
END:VEVENT
BEGIN:VTIMEZONE
TZID:Europe/London
X-LIC-LOCATION:Europe/London
BEGIN:DAYLIGHT
DTSTART:20140330T020000
TZOFFSETFROM:+0000
TZOFFSETTO:+0100
TZNAME:BST
END:DAYLIGHT
END:VTIMEZONE
END:VCALENDAR