BEGIN:VCALENDAR
VERSION:2.0
PRODID:-//wp-events-plugin.com//7.2.3.1//EN
TZID:Europe/London
X-WR-TIMEZONE:Europe/London
BEGIN:VEVENT
UID:1486@contactdance.co.uk
DTSTART;TZID=Europe/London:20140122T190000
DTEND;TZID=Europe/London:20140122T210000
DTSTAMP:20140122T102707Z
URL:https://contactdance.co.uk/events/ci-course-with-alistair-edmunds-2014
 -01-22/
SUMMARY:CI Course with Alistair Edmunds - The Willow Studio - 22 Jan 14 19:
 00
DESCRIPTION:The Body Parts Series\nA collection of contact improvisation cl
 asses exploring movement through different parts of the body\nIn this seri
 es we will use a variety of: body work\, hands on investigations\, somatic
  movement\, limited scores\, body puzzle and movement biased activities to
  develop a better understanding of fundamental CI-skills. We will look at
 : active listening\, rolling\, pushing\, sliding\, spirals\, sharing weigh
 t\, staying mobile\, getting support form the floor\, communication throug
 h touch and flying through the lens of specific body parts.\nOpen to all l
 evels.\nThis will be a good foundation for beginners\, as well as providin
 g space for deeper investigation for more experienced movers. Classes can 
 be attended individually\, however there will be some progression in the m
 aterial so it is recommended to complete the course ( 8 Weeks )\nBring you
 r questions\, curiosity welcome and encouraged.\nContact Alistair on 07805
  762998 for further information.\nFirst Class\nFeet on the ground \nIn th
 is first class of the series we will explore the feet and our connection t
 o the earth\, how to have a sense of the ground through the feet. We will 
 look at some ways into and out of the floor\, and the concept of pouring w
 eight\n&nbsp\;\nDirections To the Studio: (map below) \nFrom Better food 
 in St Werburghs\, continue along York St\, over the small roundabout to Ja
 mes Street\, Go past Stafford Road on the right\, and you will see St Werb
 urghs Primary School on the right\, (before going under the railway bridge
  )\nTurn into the School front car park\, To get to the studio\, go throug
 h the gate on the right and follow the path round to the back of the schoo
 l\, you will be able to get into the last door on the left\, this will lea
 d to the studio.\nSee you on the dance floor!\nRing me if you get lost : 0
 7805762998.\n
ATTACH;FMTTYPE=image/jpeg:https://contactdance.co.uk/wp-content/uploads/20
 12/01/Ali_n_emilia.jpeg
CATEGORIES:CI Class
LOCATION:The Willow Studio\, St. Werburghs Primary School\, James Street\, 
 Bristol\, BS2 9US\, United Kingdom
GEO:51.4704;-2.57417
X-APPLE-STRUCTURED-LOCATION;VALUE=URI;X-ADDRESS=St. Werburghs Primary Schoo
 l\, James Street\, Bristol\, BS2 9US\, United Kingdom;X-APPLE-RADIUS=100;X
 -TITLE=The Willow Studio:geo:51.4704,-2.57417
END:VEVENT
BEGIN:VTIMEZONE
TZID:Europe/London
X-LIC-LOCATION:Europe/London
BEGIN:STANDARD
DTSTART:20131027T010000
TZOFFSETFROM:+0100
TZOFFSETTO:+0000
TZNAME:GMT
END:STANDARD
END:VTIMEZONE
END:VCALENDAR