BEGIN:VCALENDAR
VERSION:2.0
PRODID:-//wp-events-plugin.com//7.2.3.1//EN
TZID:Europe/London
X-WR-TIMEZONE:Europe/London
BEGIN:VEVENT
UID:1489@contactdance.co.uk
DTSTART;TZID=Europe/London:20140212T190000
DTEND;TZID=Europe/London:20140212T210000
DTSTAMP:20140115T221900Z
URL:https://contactdance.co.uk/events/ci-course-with-alistair-edmunds-2014
 -02-12/
SUMMARY:CI Course with Alistair Edmunds - The Willow Studio - 12 Feb 14 19:
 00
DESCRIPTION:The Body Parts Series\nA collection of contact improvisation cl
 asses exploring movement through different parts of the body\n\nIn this se
 ries we will use a variety of: body work\, hands on investigations\, somat
 ic movement\, limited scores\, body puzzle and movement biased activities 
 to develop a better understanding of fundamental CI-skills. We will look 
 at: active listening\, rolling\, pushing\, sliding\, spirals\, sharing wei
 ght\, staying mobile\, getting support form the floor\, communication thro
 ugh touch and flying through the lens of specific body parts.\n\nOpen to a
 ll levels.\n\nThis will be a good foundation for beginners\, as well as pr
 oviding space for deeper investigation for more experienced movers. Classe
 s can be attended individually\, however there will be some progression in
  the material so it is recommended to complete the course ( 8 Weeks )\n\nB
 ring your questions\, curiosity welcome and encouraged.\n\nContact Alistai
 r on 07805 762998 for further information.\n\n Articulating the Spine\n\n
 Through a series of hands on exploration\, body work\, body puzzles\, and 
 movement scores we will explore how to combine soft suppleness of the spin
 e with inner strength and support for taking weight. Connecting the whole 
 of the upper body a supple spine can open a wealth of options in the dance
 \, we will explore some ways to release tension in the spine and look at t
 he role of the spine in some lifts.
ATTACH;FMTTYPE=image/jpeg:https://contactdance.co.uk/wp-content/uploads/20
 12/01/Ali_n_emilia.jpeg
CATEGORIES:CI Class
LOCATION:The Willow Studio\, St. Werburghs Primary School\, James Street\, 
 Bristol\, BS2 9US\, United Kingdom
GEO:51.4704;-2.57417
X-APPLE-STRUCTURED-LOCATION;VALUE=URI;X-ADDRESS=St. Werburghs Primary Schoo
 l\, James Street\, Bristol\, BS2 9US\, United Kingdom;X-APPLE-RADIUS=100;X
 -TITLE=The Willow Studio:geo:51.4704,-2.57417
END:VEVENT
BEGIN:VTIMEZONE
TZID:Europe/London
X-LIC-LOCATION:Europe/London
BEGIN:STANDARD
DTSTART:20131027T010000
TZOFFSETFROM:+0100
TZOFFSETTO:+0000
TZNAME:GMT
END:STANDARD
END:VTIMEZONE
END:VCALENDAR