BEGIN:VCALENDAR
VERSION:2.0
PRODID:-//wp-events-plugin.com//7.2.3.1//EN
TZID:Europe/London
X-WR-TIMEZONE:Europe/London
BEGIN:VEVENT
UID:1563@contactdance.co.uk
DTSTART;TZID=Europe/London:20140409T190000
DTEND;TZID=Europe/London:20140409T210000
DTSTAMP:20140409T150949Z
URL:https://contactdance.co.uk/events/ci-course-with-saskia-chaplin-2014-0
 4-09/
SUMMARY:CI Course with Saskia Chaplin - The Willow Studio - 9 Apr 14 19:00
DESCRIPTION:States of Being and Becoming\nExplorations in Contact Improvisa
 tion - increasing our vocabulary of movement possibilities\n8 week course.
  Open to all levels. Drop in welcome.\n\nDate:  Starts Wednesday 26th M
 arch - ends Wednesday 14th May 2014\nTime: 7pm – 9pm\nVenue: The Willo
 w Studio\, St Werburghs Primary School\, James Street\, Bristol BS2 9US\nC
 ost: £10 (£8 conc) drop-in. £60 for the course (2 classes free)\n\nCon
 tact Improvisation opens a door to a world of fun\, creative expression\, 
 joy in movement\, and awareness. To get the most out of it\, having a heal
 thy mix of technique alongside an openness and ability to improvise really
  helps.\n\nThe aim of this course is to find ways in to the dance by conne
 cting to where we are in the moment and offering explorations of other sta
 tes\; through improvisational scores\, imagery\, and bodywork. Weaving in 
 exercises of CI fundamentals to embody the techniques of the form.\n\nArea
 s we will cover include\; connecting to ourselves\, the floor and our part
 ners\, attuning our listening\, exploring movement patterns and pathways\,
  working with restrictions\, finding disorientation\, finding ease and flo
 w. There will also be time for discussion and open dancing.\n\nThere will 
 be a progression of material\, so attending the whole course is recommende
 d\, but drop in is also welcome.\n\nClass 3: Massaging into Movement: we w
 ill use bodywork to bring awareness and movement from our skin\, muscles a
 nd bones.\n\nPracticalities\nBring yourself as you are\, loose comfortable
  clothing\, kneepads if you have them\, a curiosity to explore and an open
 ness to be inspired from new ways in. It also helps to have a notebook to 
 support your learning.\n\nContact\nTo book your place or find out more\, e
 mail Saskia on saskia@contactdance.co.uk or phone 07904 121 646.
ATTACH;FMTTYPE=image/jpeg:https://contactdance.co.uk/wp-content/uploads/20
 14/03/Me-flying-e1421143299645.jpg
CATEGORIES:CI Class
LOCATION:The Willow Studio\, St. Werburghs Primary School\, James Street\, 
 Bristol\, BS2 9US\, United Kingdom
GEO:51.4704;-2.57417
X-APPLE-STRUCTURED-LOCATION;VALUE=URI;X-ADDRESS=St. Werburghs Primary Schoo
 l\, James Street\, Bristol\, BS2 9US\, United Kingdom;X-APPLE-RADIUS=100;X
 -TITLE=The Willow Studio:geo:51.4704,-2.57417
END:VEVENT
BEGIN:VTIMEZONE
TZID:Europe/London
X-LIC-LOCATION:Europe/London
BEGIN:DAYLIGHT
DTSTART:20140330T020000
TZOFFSETFROM:+0000
TZOFFSETTO:+0100
TZNAME:BST
END:DAYLIGHT
END:VTIMEZONE
END:VCALENDAR