BEGIN:VCALENDAR
VERSION:2.0
PRODID:-//wp-events-plugin.com//7.2.3.1//EN
TZID:Europe/London
X-WR-TIMEZONE:Europe/London
BEGIN:VEVENT
UID:1426@contactdance.co.uk
DTSTART;TZID=Europe/London:20131106T190000
DTEND;TZID=Europe/London:20131106T210000
DTSTAMP:20131012T094818Z
URL:https://contactdance.co.uk/events/ci-fundamentals-with-saskia-chaplin-
 2013-10-30/
SUMMARY:CI Fundamentals with Saskia Chaplin - The Willow Studio - 6 Nov 13 
 19:00
DESCRIPTION:Date:  Starts Wednesday 18th September*\nTime: 7pm - 9pm\nVe
 nue: The Willow Studio\, St Werburghs Primary School\nCost: £50 for all
  or £10/£8 (conc) drop-in\nLed by: Saskia Chaplin\n\nStarting on Wednes
 day 18th September for 7 consecutive weeks (*except for the 30th October 
 when there will be no class\, so last session is on the 6th November). A w
 eekly two-hour class exploring the basics of contact improvisation.\n\nCon
 tact Improvisation\nCI is an improvised dance form that fine tunes your se
 nses and wakes up your ability to listen and respond to what is happening 
 in the moment. Open to all bodies and inquiring minds.\n\nSome of the fund
 amentals we will explore in this course include\; the rolling point of con
 tact\, weight exchange\, basic lifts\, leading &amp\; following\, ways to 
 say yes\, no\, and maybe\, spirals\, the small dance\, safety\, and more.\
 n\nPracticals\nThis course is suitable for complete beginners and those wa
 nting to revisit the fundamentals. It is ideal to attend the whole course\
 , at a cost of just £50. However\, drop-in is also possible at £10 per c
 lass (£8 concessions)\n\nEach class will include a led warm-up at the sta
 rt and warm-down at the end\, a focus on CI fundamentals\, and time for qu
 estions\, discussion and feedback.\n\nPlease bring loose comfortable cloth
 ing\, with a warm layer to start and end in\, kneepads if you have them (I
  will bring a few pairs for sale\, £10 per pair)\, and water (though ther
 e is access to tap water).\n\nContact\nTo book your place or find out more
 \, email Saskia on saskia@contactdance.co.uk or phone 07904 121 646 (if 
 phoning\, please do so on or after the 15th September as I’m currently 
 abroad)\n\nContent\nWeek 1:\nFirst contact – first finding our connecti
 on to the floor we will explore the use of push\, roll\, and slide in cont
 act with the floor and our partners to make first contact in the dance\n\n
 Week 2:\nGive and take – giving and taking weight\, counterbalance\, us
 ing weight\, and exploring how to say yes/no through our bodies\n\nWeek 3:
 \nFollow the leader – using exercises to offer direction\, leading and 
 following our partners in space\n\nWeek 4:\nUp – the art of simple lift
 s (the table\, hip lifts\, etc)\, and finding movement with weight exchang
 e\n\nWeek 5:\nThe Centre – moving from our centres\, offering and takin
 g lifts\, leading and following from the centre\n\nWeek 6:\nSpiraling Soft
 ly – finding pathways from\, to\, and with\, the floor and our partners
 \n\nWeek 7:\nBringing it all together – following our 7-week journey th
 is class will revisit what we have learnt\, combining it in a dance\n\n* p
 lease note I may decide to change the format slightly as we work together 
 as a group\n*See you Dancing\, Saskia *
ATTACH;FMTTYPE=image/jpeg:https://contactdance.co.uk/wp-content/uploads/20
 12/05/sas-dancing-dartington-e1369314605477.jpg
CATEGORIES:CI Class
LOCATION:The Willow Studio\, St. Werburghs Primary School\, James Street\, 
 Bristol\, BS2 9US\, United Kingdom
GEO:51.4704;-2.57417
X-APPLE-STRUCTURED-LOCATION;VALUE=URI;X-ADDRESS=St. Werburghs Primary Schoo
 l\, James Street\, Bristol\, BS2 9US\, United Kingdom;X-APPLE-RADIUS=100;X
 -TITLE=The Willow Studio:geo:51.4704,-2.57417
END:VEVENT
BEGIN:VTIMEZONE
TZID:Europe/London
X-LIC-LOCATION:Europe/London
BEGIN:STANDARD
DTSTART:20131027T010000
TZOFFSETFROM:+0100
TZOFFSETTO:+0000
TZNAME:GMT
END:STANDARD
END:VTIMEZONE
END:VCALENDAR