BEGIN:VCALENDAR
VERSION:2.0
PRODID:-//wp-events-plugin.com//7.2.3.1//EN
TZID:Europe/London
X-WR-TIMEZONE:Europe/London
BEGIN:VEVENT
UID:1609@contactdance.co.uk
DTSTART;TZID=Europe/London:20140528T190000
DTEND;TZID=Europe/London:20140528T210000
DTSTAMP:20140528T160820Z
URL:https://contactdance.co.uk/events/ci-lab-held-by-agnieszka-2/
SUMMARY:CI Lab - held by Agnieszka CANCELLED - The Willow Studio - 28 May 1
 4 19:00
DESCRIPTION:Apologies - this lab is cancelled as the studio is unable to op
 en up for us due to unforeseen circumstances.\n\n&nbsp\;\n\nWillow studi
 o LAB proposal May the 21st and May the 28th Agnieszka Grenckowska\n\nI
 ’d like to invite all the teachers\, facilitators\, creators and CI danc
 e enthusiasts to take part in these series of CI LAB’s.\n\nThe offering 
 is to give:\n\n	Training ground for your ideas\n	Opportunity to practice t
 he skill of giving and receiving feedback\n\nTo expand on the above\, I’
 d like to ask you :\n\nAre you working on a design for a workshop\, writin
 g a class\, thinking of a score\, working on a solo piece or group perform
 ance?\n\nThis LAB could be a great opportunity to present it to a peer gro
 up. Can be an unfinished work in progress type material or a ready to go s
 tuff.\n\nAre you\, like me\, inspired to learn and practice the art of fee
 dback and articulation?\n\nThis LAB could give you the tools to start or i
 mprove your navigating the creative process that feedback giving and recei
 ving offers.\n\n&nbsp\;\n\nSo\, what’s next? I would like to hear from y
 ou beforehand if you have something in mind that you would like to present
  in the LAB. Otherwise we will go with what is in the space when we get to
 gether.\n\nWe can do a series of demos or one long demo\, all followed by 
 a feedback.\n\nI will do my best to facilitate the feedback process\, draw
 ing form Liz Lerman’s ‘Critical Response Process’ and other feedback
  systems as outlined in the Contact Quarterly. Feedback and Articulation\
 , 2008.\n\nI am aware that we have volunteered CI for a taster class as w
 ell as performance for the Hamilton House open day in June. I suggest that
  we use this LAB space to design what we aim to deliver to the wide public
  in these promotional slots.\n\nAs there are two LAB’s scheduled\, I pro
 pose we dedicate the first one on the 21st May to CI class/workshop/score
  and the following one on the 28th either continue or present/develop &am
 p\; review a performance piece.\n\n&nbsp\;\n\nHow does this sound for you?
 \n\nLooking forward to sharing those Wednesday evenings with you\, back in
  our hub of Bristol CI.\n\n&nbsp\;\n\nAgnieszka
CATEGORIES:CI Labbing Session
LOCATION:The Willow Studio\, St. Werburghs Primary School\, James Street\, 
 Bristol\, BS2 9US\, United Kingdom
GEO:51.4704;-2.57417
X-APPLE-STRUCTURED-LOCATION;VALUE=URI;X-ADDRESS=St. Werburghs Primary Schoo
 l\, James Street\, Bristol\, BS2 9US\, United Kingdom;X-APPLE-RADIUS=100;X
 -TITLE=The Willow Studio:geo:51.4704,-2.57417
END:VEVENT
BEGIN:VTIMEZONE
TZID:Europe/London
X-LIC-LOCATION:Europe/London
BEGIN:DAYLIGHT
DTSTART:20140330T020000
TZOFFSETFROM:+0000
TZOFFSETTO:+0100
TZNAME:BST
END:DAYLIGHT
END:VTIMEZONE
END:VCALENDAR