BEGIN:VCALENDAR
VERSION:2.0
PRODID:-//wp-events-plugin.com//7.2.3.1//EN
TZID:Europe/London
X-WR-TIMEZONE:Europe/London
BEGIN:VEVENT
UID:1608@contactdance.co.uk
DTSTART;TZID=Europe/London:20140521T190000
DTEND;TZID=Europe/London:20140521T210000
DTSTAMP:20140512T095036Z
URL:https://contactdance.co.uk/events/ci-lab-held-by-agnieszka/
SUMMARY:CI Lab - held by Agnieszka - The Willow Studio - 21 May 14 19:00
DESCRIPTION:Willow studio LAB proposal May the 21st and May the 28th Agnies
 zka Grenckowska\n\nI’d like to invite all the teachers\, facilitators\, 
 creators and CI dance enthusiasts to take part in these series of CI LAB
 ’s.\n\nThe offering is to give:\n\n	Training ground for your ideas\n	Opp
 ortunity to practice the skill of giving and receiving feedback\n\nTo expa
 nd on the above\, I’d like to ask you :\n\nAre you working on a design f
 or a workshop\, writing a class\, thinking of a score\, working on a solo 
 piece or group performance?\n\nThis LAB could be a great opportunity to pr
 esent it to a peer group. Can be an unfinished work in progress type mater
 ial or a ready to go stuff.\n\nAre you\, like me\, inspired to learn and p
 ractice the art of feedback and articulation?\n\nThis LAB could give you t
 he tools to start or improve your navigating the creative process that fee
 dback giving and receiving offers.\n\n&nbsp\;\n\nSo\, what’s next? I wou
 ld like to hear from you beforehand if you have something in mind that you
  would like to present in the LAB. Otherwise we will go with what is in th
 e space when we get together.\n\nWe can do a series of demos or one long d
 emo\, all followed by a feedback.\n\nI will do my best to facilitate the f
 eedback process\, drawing form Liz Lerman’s ‘Critical Response Process
 ’ and other feedback systems as outlined in the Contact Quarterly. Feedb
 ack and Articulation\, 2008.\n\nI am aware that we have volunteered CI for
  a taster class as well as performance for the Hamilton House open day in 
 June. I suggest that we use this LAB space to design what we aim to delive
 r to the wide public in these promotional slots.\n\nAs there are two LAB
 ’s scheduled\, I propose we dedicate the first one on the 21st May to CI
  class/workshop/score and the following one on the 28th either continue or
  present/develop &amp\; review a performance piece.\n\n&nbsp\;\n\nHow does
  this sound for you?\n\nLooking forward to sharing those Wednesday evening
 s with you\, back in our hub of Bristol CI.\n\n&nbsp\;\n\nAgnieszka
CATEGORIES:CI Labbing Session
LOCATION:The Willow Studio\, St. Werburghs Primary School\, James Street\, 
 Bristol\, BS2 9US\, United Kingdom
GEO:51.4704;-2.57417
X-APPLE-STRUCTURED-LOCATION;VALUE=URI;X-ADDRESS=St. Werburghs Primary Schoo
 l\, James Street\, Bristol\, BS2 9US\, United Kingdom;X-APPLE-RADIUS=100;X
 -TITLE=The Willow Studio:geo:51.4704,-2.57417
END:VEVENT
BEGIN:VTIMEZONE
TZID:Europe/London
X-LIC-LOCATION:Europe/London
BEGIN:DAYLIGHT
DTSTART:20140330T020000
TZOFFSETFROM:+0000
TZOFFSETTO:+0100
TZNAME:BST
END:DAYLIGHT
END:VTIMEZONE
END:VCALENDAR