BEGIN:VCALENDAR
VERSION:2.0
PRODID:-//wp-events-plugin.com//7.2.3.1//EN
TZID:Europe/London
X-WR-TIMEZONE:Europe/London
BEGIN:VEVENT
UID:1434@contactdance.co.uk
DTSTART;TZID=Europe/London:20131127T190000
DTEND;TZID=Europe/London:20131127T210000
DTSTAMP:20131012T101052Z
URL:https://contactdance.co.uk/events/ci-labbing-session/
SUMMARY:CI Labbing Session - The Willow Studio - 27 Nov 13 19:00
DESCRIPTION:A co-created session of exploration around one or more aspects 
 of contact improvisation. Topic may be pre-decided or worked out on the da
 y.
CATEGORIES:CI Labbing Session
LOCATION:The Willow Studio\, St. Werburghs Primary School\, James Street\, 
 Bristol\, BS2 9US\, United Kingdom
GEO:51.4704;-2.57417
X-APPLE-STRUCTURED-LOCATION;VALUE=URI;X-ADDRESS=St. Werburghs Primary Schoo
 l\, James Street\, Bristol\, BS2 9US\, United Kingdom;X-APPLE-RADIUS=100;X
 -TITLE=The Willow Studio:geo:51.4704,-2.57417
END:VEVENT
BEGIN:VTIMEZONE
TZID:Europe/London
X-LIC-LOCATION:Europe/London
BEGIN:STANDARD
DTSTART:20131027T010000
TZOFFSETFROM:+0100
TZOFFSETTO:+0000
TZNAME:GMT
END:STANDARD
END:VTIMEZONE
END:VCALENDAR