BEGIN:VCALENDAR
VERSION:2.0
PRODID:-//wp-events-plugin.com//7.2.3.1//EN
TZID:Europe/London
X-WR-TIMEZONE:Europe/London
BEGIN:VEVENT
UID:2735@contactdance.co.uk
DTSTART;TZID=Europe/London:20240518T100000
DTEND;TZID=Europe/London:20240518T173000
DTSTAMP:20240123T142313Z
URL:https://contactdance.co.uk/events/ci-up-in-the-sky-contact-improvisati
 on-day-workshop/
SUMMARY:CI Up in the Sky - Contact Improvisation Day Workshop - St. Michael
 's Parish Hall - 18 May 24 10:00
DESCRIPTION:\n\nJourneying from the floor to flying.\nContact Improvisation
 \nBristol Day WorkshopTaught by Richard Parker\n\nSaturday 18th May 2024 |
  10am - 5.30pm\n\nSt Michael’s Parish Hall\, Park Lane\, Bristol BS2 8BE
 \n\nTickets: https://www.tickettailor.com/events/richardparkerci
ATTACH;FMTTYPE=image/jpeg:https://contactdance.co.uk/wp-content/uploads/20
 24/01/sky.png
CATEGORIES:CI Workshop
LOCATION:St. Michael's Parish Hall\, Park Ln\, Bristol BS2 8BE\, Bristol\, 
 BS2 8BE\, United Kingdom
GEO:51.457;-2.59932
X-APPLE-STRUCTURED-LOCATION;VALUE=URI;X-ADDRESS=Park Ln\, Bristol BS2 8BE\,
  Bristol\, BS2 8BE\, United Kingdom;X-APPLE-RADIUS=100;X-TITLE=St. Michael
 's Parish Hall:geo:51.457,-2.59932
END:VEVENT
BEGIN:VTIMEZONE
TZID:Europe/London
X-LIC-LOCATION:Europe/London
BEGIN:DAYLIGHT
DTSTART:20240331T020000
TZOFFSETFROM:+0000
TZOFFSETTO:+0100
TZNAME:BST
END:DAYLIGHT
END:VTIMEZONE
END:VCALENDAR