BEGIN:VCALENDAR
VERSION:2.0
PRODID:-//wp-events-plugin.com//7.2.3.1//EN
TZID:Europe/London
X-WR-TIMEZONE:Europe/London
BEGIN:VEVENT
UID:2506@contactdance.co.uk
DTSTART;TZID=Europe/London:20221015T103000
DTEND;TZID=Europe/London:20221016T173000
DTSTAMP:20220731T165945Z
URL:https://contactdance.co.uk/events/connection-through-partner-yoga-cont
 act-improvisation-thai-massage-clothed-in-bristol/
SUMMARY:Connection through Partner Yoga\, Contact Improvisation\, & Thai Ma
 ssage (clothed). In Bristol - St. Michael's Parish Hall - 15 Oct 22 10:30
DESCRIPTION:\nJoin Emilia Gzyl and Asher Levin for an indulgent weekend of 
 3 complementary practices to deepen your sense of connection and relations
 hip with yourself and others.\nThe workshop will: boost energy levels\, nu
 rture a sense of well-being\, lower stress\, broaden your movement range a
 nd vocabulary\, release muscular tension\, &amp\; deepen your body's 'list
 ening' skills. You'll have fun and experience creative opening.\nOpen to a
 ll. You may choose to bring a partner to work with for the yoga and clothe
 d massage\, though this is not essential as we will intuitively coordinate
  and there will be flexibility of partner.\nWhile the full weekend will pr
 ovide the full immersive experience\, if you are not able to make the whol
 e weekend\, you are welcome to purchase a 1 day ticket for either Saturday
  or Sunday.\nTimes: 10.30 am to 5.30 pm\nLocation: St Michael's Parish Hal
 l. A lovely\, warm bright hall in the centre of town\, with views over Bri
 stol.\nPrice*:\nWeekend £85 / £110 / £130\n1 Day: £47/ £59 / £71\nas
  you feel fair and right for you.\n*We also have a couple of bursary place
 s available\, if the concession price would be a bar to participation. Ple
 ase send a brief email to Asher.\nEnquiries and info:\ne: asher.levin.mail
 @gmail.com\nt: 0799 9934369\nBooking: tickettailor.com/events/asherlevine
 vents\n\nThe 3 Practices\nThe thread through all 3 practices is an interwo
 ven deepening - intimate &amp\; spacious\, softening &amp\; strong - relat
 ionship through body\, mind\, and spirit.\nPartner Yoga... Not to be confu
 sed with Acroyoga\, Partner Yoga allows two people to relate to and suppor
 t one another's practice through mutually assisted poses. From stretching 
 your levels of trust to strengthening your communication\, partner yoga ca
 n have a positive effect on you and your connections that extends far beyo
 nd the physical. It's a gentle\, strong practice\, available for everyone
 ’s level\, including those without previous experience.\nContact Improvi
 sation... is a form of improvised movement or dance. It takes inspiration 
 from and involves exploration of physically being in relationship to other
 s. We use the fundamentals of shared touch\, weight\, and movement awarene
 ss. Rather than focusing on 'dance moves' we train our bodies to listen an
 d observe the wonder of shared spontaneous movement and\, maybe\, dance. L
 istening\, following\, leading and suggesting without attachment are at th
 e fore. Letting go of control of all that happens opens us to playfulness\
 , surprises\, creativity\, dynamism and tenderness.\nThai Massage... is a 
 clothed massage practice. Guided and supported throughout\, to release ten
 sion and stress in a safe &amp\; respectful manner. Thai Massage uses gent
 le pressure\, stretching techniques and joint mobilisations to relax &amp\
 ; open the body. The theory suggests that tight muscles cause blockages wi
 thin energy lines\, called Sen lines in the Thai Massage tradition. These 
 blockages reduce the flow of life energy\, resulting in stiffness\, pain\,
  and illness. Thai massage uses techniques that open the Sen to correct th
 e flow of life energy.\n\nBio's\nEmilia Gzyl is a Transformational Coach\,
  Yin Yoga Teacher\, experienced Massage Therapist and NLP Master. She's be
 en offering Healing and Massage sessions to her clients in her established
  practice in Bristol for the last 12 years. Emilia has dedicated her past 
 13 years to the in-depth exploration of interconnectedness of body/mind/sp
 irit. She is endlessly fascinated by the art of touch and conscious commun
 ication in people's lives. She is passionate about dance\, movement\, touc
 h &amp\; the possibilities offered by them.\nwww.healingmassagebristol.co.
 uk\nAsher Levin has been practicing Contact Improvisation\, performing phy
 sical theatre\, teaching and leading workshops for over 25 years. He's tau
 ght CI internationally since 2008. In CI\, he loves the practice of learni
 ng to trust ourselves and others - even when meeting the unknown - in phys
 ical\, artistic\, creative and personal relationships. The ever changing o
 rientations of CI\, full of movement potential\, provide him with fresh pe
 rspectives. Being off-balance\, while dynamic and flowing as a creative pr
 actice is incredibly liberating.\n*"The only real voyage of discovery cons
 ists not in seeking new landscapes but in having new eyes." Marcel Proust*
 \nBooking: tickettailor.com/events/asherlevinevents\nEnquiries and info:\
 ne: asher.levin.mail@gmail.com\nt: 0799 9934369
ATTACH;FMTTYPE=image/jpeg:https://contactdance.co.uk/wp-content/uploads/20
 22/07/Asherandemilia-e1659286741870.jpg
CATEGORIES:CI Workshop,Other Workshop
LOCATION:St. Michael's Parish Hall\, Park Ln\, Bristol BS2 8BE\, Bristol\, 
 BS2 8BE\, United Kingdom
GEO:51.457;-2.59932
X-APPLE-STRUCTURED-LOCATION;VALUE=URI;X-ADDRESS=Park Ln\, Bristol BS2 8BE\,
  Bristol\, BS2 8BE\, United Kingdom;X-APPLE-RADIUS=100;X-TITLE=St. Michael
 's Parish Hall:geo:51.457,-2.59932
END:VEVENT
BEGIN:VTIMEZONE
TZID:Europe/London
X-LIC-LOCATION:Europe/London
BEGIN:DAYLIGHT
DTSTART:20220327T020000
TZOFFSETFROM:+0000
TZOFFSETTO:+0100
TZNAME:BST
END:DAYLIGHT
END:VTIMEZONE
END:VCALENDAR