BEGIN:VCALENDAR
VERSION:2.0
PRODID:-//wp-events-plugin.com//7.2.3.1//EN
TZID:Europe/London
X-WR-TIMEZONE:Europe/London
BEGIN:VEVENT
UID:412@contactdance.co.uk
DTSTART;TZID=Europe/London:20111229T140000
DTEND;TZID=Europe/London:20111229T163000
DTSTAMP:20120103T161921Z
URL:https://contactdance.co.uk/events/contact-dancedance-improv-session/
SUMMARY:Contact Dance/Dance Improv Session - The Dance Space - 29 Dec 11 14
 :00
DESCRIPTION:Hello\, I have booked the dancespace at the Island in Bristol f
 or some time to dance - improvise\, contact-jam\, bodywork ... whatever su
 its you. The space is from 2-4.30pm on Thursday 29th December and I have w
 onderful musicians coming to play for us.\n\nPlease let me know if you wou
 ld like to come along\, payment will be minimal as I am just looking to co
 ver the costs. Either post on facebook [in the Contact Improvisation Dance
  in Bristol group] or email me if you're interested lisamay.thomas@mac.com
 .\nLisa x
LOCATION:The Dance Space\, The Island\, Silver Street\, Bristol\, BS1 2PY\,
  United Kingdom
GEO:51.4571;-2.59226
X-APPLE-STRUCTURED-LOCATION;VALUE=URI;X-ADDRESS=The Island\, Silver Street\
 , Bristol\, BS1 2PY\, United Kingdom;X-APPLE-RADIUS=100;X-TITLE=The Dance 
 Space:geo:51.4571,-2.59226
END:VEVENT
BEGIN:VTIMEZONE
TZID:Europe/London
X-LIC-LOCATION:Europe/London
BEGIN:STANDARD
DTSTART:20111030T010000
TZOFFSETFROM:+0100
TZOFFSETTO:+0000
TZNAME:GMT
END:STANDARD
END:VTIMEZONE
END:VCALENDAR