BEGIN:VCALENDAR
VERSION:2.0
PRODID:-//wp-events-plugin.com//7.2.3.1//EN
TZID:Europe/London
X-WR-TIMEZONE:Europe/London
BEGIN:VEVENT
UID:210@contactdance.co.uk
DTSTART;TZID=Europe/London:20120729T160000
DTEND;TZID=Europe/London:20120805T140000
DTSTAMP:20120331T122033Z
URL:https://contactdance.co.uk/events/contact-festival-dartington-2012/
SUMMARY:Contact Festival Dartington 2012 - The Performance Centre - 29 Jul 
 12 16:00
DESCRIPTION:Dartington is in the air\, as this year Contact Festival Dartin
 gton travels to Cornwall to take residence at the brand new Performance Ce
 ntre studios at Tremough Campus in Penryn. The studios are spacious and fe
 ature fully sprung Harlequin oak floors\, and natural light from large win
 dows. A popular holiday destination for UK residents and international vis
 itors alike\, Cornwall boasts some of the most pristine beaches and coastl
 ines in the world\, and is awash with fresh ocean air from both sides of t
 he Cornish peninsula.\n\nContact improvisation first landed in the UK in t
 he 1970s and 80s when Steve Paxton began researching and teaching at Darti
 ngton College of Arts\, in the theatre program under the direction of Mary
  O’Donnell Fulkerson\, European pioneer of release technique.  In colla
 boration with other artists of the New Dance movement\, Fulkerson and Paxt
 on began a series of spring festivals of dance and improvisation at Dartin
 gton.  In the spirit of these gatherings and following a very successful 
 National Contact Jam hosted at Dartington in 2010\, and first annual Conta
 ct Festival Dartington in 2011\, both which garnered a huge response from 
 participants to continue\, we now present the second annual Contact Festiv
 al Dartington.\n\nThe festival features a series of two-day workshops with
  exceptional teachers\, showings of work\, and jams with live music.  All
  sessions take place in the same space\, and no parallel sessions mean tha
 t participants do not need to choose between workshops and that a shared e
 xperience of work and play develops throughout the week. Homemade vegetari
 an and omnivorous food is provided by our talented team of cooks who prepa
 re three meals daily.  Hot beverages are also available throughout the da
 y.  All food is included in the festival price\, and special diets can be
  catered for on request.\n\nApartment-style accommodation on the grounds o
 f the Tremough Campus is also included in the festival price. Participant
 s can choose between rooms with a large double bed and ensuite bathroom fo
 r one to two people\, or a limited number of rooms with bunk beds\, also w
 ith ensuite bathroom.\n\nTremough Campus\, TR10 9EZ\, is easily accessible
  by road or by rail from Penryn train station\, which is a ten-minute walk
  away. By plane\, regular flights from London come to Newquay Airport (1 
 hour by train)\, Exeter Airport (3 hours by train) and Bristol Internation
 al Airport (4 hours by train). Follow the link for travel advice to Tremou
 gh Campus.\n\nStandard price of £285 includes all festival events\, food 
 and accommodation.  There is also a day rate of £60 with accommodation o
 r £50 without accommodation\; both prices include food.\n\nUp to six burs
 aries of £100 each for artists from the southwest have been made availabl
 e through dance cards for continuing professional development activities v
 ia dance agencies in the southwest including Plymouth Dance\, Dance in Dev
 on and The Works Dance &amp\; Theatre in Cornwall. Deadline for CPD dance 
 card applications is the 1st of June for Contact Festival Dartington parti
 cipants. (Note this is an extension from the earlier deadline of 1 April.)
 \n\nFor more information. Click on their website: www.contactfestivaldarti
 ngton.co.uk
ATTACH;FMTTYPE=image/jpeg:https://contactdance.co.uk/wp-content/uploads/lo
 cations-pics/event-210.jpg
CATEGORIES:CI Festival
LOCATION:The Performance Centre\, University College Falmouth\, Tremough Ca
 mpus\, Penryn\, Cornwall\, TR10 9LX\, United Kingdom
GEO:50.1708086;-5.1254165000000285
X-APPLE-STRUCTURED-LOCATION;VALUE=URI;X-ADDRESS=University College Falmouth
 \, Tremough Campus\, Penryn\, Cornwall\, TR10 9LX\, United Kingdom;X-APPLE
 -RADIUS=100;X-TITLE=The Performance Centre:geo:50.1708086,-5.1254165000000
 285
END:VEVENT
BEGIN:VTIMEZONE
TZID:Europe/London
X-LIC-LOCATION:Europe/London
BEGIN:DAYLIGHT
DTSTART:20120325T020000
TZOFFSETFROM:+0000
TZOFFSETTO:+0100
TZNAME:BST
END:DAYLIGHT
END:VTIMEZONE
END:VCALENDAR