BEGIN:VCALENDAR
VERSION:2.0
PRODID:-//wp-events-plugin.com//7.2.3.1//EN
TZID:Europe/London
X-WR-TIMEZONE:Europe/London
BEGIN:VEVENT
UID:1241@contactdance.co.uk
DTSTART;TZID=Europe/London:20130401T120000
DTEND;TZID=Europe/London:20130407T180000
DTSTAMP:20130202T091233Z
URL:https://contactdance.co.uk/events/contact-festival-dartington-2013/
SUMMARY:Contact Festival Dartington 2013 - The Performance Centre - 1 Apr 1
 3 12:00
DESCRIPTION:Contact Festival Dartington is in its third year as the UK’s 
 only international festival of contact improvisation. In the spirit of the
  summer dance festivals organised by Steve Paxton and Mary Fulkerson at Da
 rtington College of Arts in the 1980s\, CFD formed to support the rigorous
 \, delightful investigation and enquiry which is at the heart of contact i
 mprovisation.​\n\n​​​​Contact Festival Dartington aims to:\n\n	s
 upport the development and appreciation of contact and improvisation pract
 ices\n	facilitate a collaborative learning environment in which principles
  of movement can be explored by practitioners of all levels of experience\
 n	promote research into the applications and implications of contact impro
 visation practice for different contexts including movement education\, so
 matic studies\, performance training\, health and wellbeing\, choreographi
 c practice\, medical research\, social sciences\, experiential learning an
 d philosophy\n	encourage questioning of the impact and application of cont
 act improvisation practice in different contexts through dialogues\, prese
 ntations of research\, performances and shared workshop experience\n\nCFD 
 is a small festival in which all participants are invited to join in a pro
 gramme of workshops\, jams\, performances and dialogues which take place i
 n the same studio space from early morning until late evening. No parallel
  sessions means that the activities of the week promote a shared language 
 and research experience among all members of the group. ​\n\n​Three in
 ternational teachers are featured each year. Charlie Morrissey\, a Darting
 ton alumni and dance artist based in Brighton\, UK\, teaches a two-day int
 ensive during each year of the festival and is joined in 2013 by Ezster Ga
 l of Budapest\, Hungary\, Karen Nelson of Seattle\, USA and Kayla Dougan B
 owtell UK. In addition to Charlie Morrissey\, teachers at past CFDs have i
 ncluded:\n\n2012 Mirva Makinen (Finland)\, Lucia Walker (UK) and Kayla Dou
 gan Bowtell (UK)\n\n2011 Kathy Crick (UK) and Riccardo Meneghini (Italy/UK
 )\n\nFor more information: www.contactfestivaldartington.com
ATTACH;FMTTYPE=image/jpeg:https://contactdance.co.uk/wp-content/uploads/20
 13/02/CFD2013.jpg
CATEGORIES:CI Festival
LOCATION:The Performance Centre\, University College Falmouth\, Tremough Ca
 mpus\, Penryn\, Cornwall\, TR10 9LX\, United Kingdom
GEO:50.1708086;-5.1254165000000285
X-APPLE-STRUCTURED-LOCATION;VALUE=URI;X-ADDRESS=University College Falmouth
 \, Tremough Campus\, Penryn\, Cornwall\, TR10 9LX\, United Kingdom;X-APPLE
 -RADIUS=100;X-TITLE=The Performance Centre:geo:50.1708086,-5.1254165000000
 285
END:VEVENT
BEGIN:VTIMEZONE
TZID:Europe/London
X-LIC-LOCATION:Europe/London
BEGIN:DAYLIGHT
DTSTART:20130331T020000
TZOFFSETFROM:+0000
TZOFFSETTO:+0100
TZNAME:BST
END:DAYLIGHT
END:VTIMEZONE
END:VCALENDAR