BEGIN:VCALENDAR
VERSION:2.0
PRODID:-//wp-events-plugin.com//7.2.3.1//EN
TZID:Europe/London
X-WR-TIMEZONE:Europe/London
BEGIN:VEVENT
UID:1508@contactdance.co.uk
DTSTART;TZID=Europe/London:20140330T143000
DTEND;TZID=Europe/London:20140406T173000
DTSTAMP:20140122T225728Z
URL:https://contactdance.co.uk/events/contact-festival-dartington-2014/
SUMMARY:Contact Festival Dartington 2014 - Performance Centre - 30 Mar 14 1
 4:30
DESCRIPTION:Dear performers and improvisers\, You are warmly invited to att
 end Contact Festival Dartington 2014\, taking place this spring break 30 M
 arch – 6 April in The Performance Centre at Falmouth University and feat
 uring internationally recognised teachers of improvisation Ray Chung (San 
 Francisco\, USA)\, Charlie Morrissey (Brighton\, UK)\, and Eszter Gal (Bud
 apest\, Hungary). The week will include a series of workshops in contact i
 mprovisation\, morning vinyasa yoga with Kayla Dougan Bowtell (UK) \, even
 ing jamming and performances by teachers and participants\, as well as a h
 alf-day conference of research presentations. The unique format of Contact
  Festival Dartington with no parallel sessions mean that teachers and stud
 ents follow a shared journey of research throughout the week.   More info
 rmation is available attached and at www.contactfestivaldartington.com Reg
 istration is now open\; we look forward to welcoming you to The Performanc
 e Centre in March and April. All the best\, Malaika &amp\; Richard Sarco-T
 homas\, co-organisers of Contact Festival Dartington 2014 www.contactfesti
 valdartington.com
CATEGORIES:CI Festival
LOCATION:Performance Centre\, Falmouth University\, Falmouth\, United Kingd
 om
GEO:50.149181;-5.070854999999938
X-APPLE-STRUCTURED-LOCATION;VALUE=URI;X-ADDRESS=Falmouth University\, Falmo
 uth\, United Kingdom;X-APPLE-RADIUS=100;X-TITLE=Performance Centre:geo:50.
 149181,-5.070854999999938
END:VEVENT
BEGIN:VTIMEZONE
TZID:Europe/London
X-LIC-LOCATION:Europe/London
BEGIN:DAYLIGHT
DTSTART:20140330T020000
TZOFFSETFROM:+0000
TZOFFSETTO:+0100
TZNAME:BST
END:DAYLIGHT
END:VTIMEZONE
END:VCALENDAR