BEGIN:VCALENDAR
VERSION:2.0
PRODID:-//wp-events-plugin.com//7.2.3.1//EN
TZID:Europe/London
X-WR-TIMEZONE:Europe/London
BEGIN:VEVENT
UID:2484@contactdance.co.uk
DTSTART;TZID=Europe/London:20220521T100000
DTEND;TZID=Europe/London:20220522T173000
DTSTAMP:20220308T094240Z
URL:https://contactdance.co.uk/events/contact-impro-partner-yoga-thai-mass
 age-weekend/
SUMMARY:Contact Impro\, Partner Yoga & Thai Massage Weekend - St. Michael's
  Parish Hall - 21 May 22 10:00
DESCRIPTION:\nJoin Emilia Gzyl and Asher Levin for an indulgent weekend of 
 3 complementary practices to boost energy levels\, lower stress\, improve 
 your range of motion\, release muscular tension\, develop connection to on
 eself &amp\; others\, have fun and experience creative opening.\nOpen to a
 ll. You may choose to bring a partner to work with for the yoga and clothe
 d massage\, though this is not essential as we will coordinate.\nTimes: 10
 .00 am to 5.30 pm\nLocation: St Michael's Parish Hall. A lovely\, warm bri
 ght hall in the centre of town\, with views over Bristol.\nPrice: £95 / 
 £125 / £150 as you are able.\nWe aim to be as financially accessible as 
 possible for all. To access a concession price ticket (£95) please send a
  brief email to Asher. We also have a couple of bursary places available\,
  if the concession price would be a bar to participation.\nThe 3 Practices
 \nContact Improvisation is a form of improvised movement or dance. It take
 s inspiration from and involves exploration of physically being in relatio
 nship to others. We use the fundamentals of shared touch\, weight\, and mo
 vement awareness. Letting go of control of all that happens opens us to pl
 ayfulness\, surprises\, creativity\, dynamism and tenderness.\nPartner Yog
 a (not to be confused with Acroyoga) allows two people to relate to and su
 pport one another's practice through mutually assisted poses. From stretch
 ing your levels of trust to strengthening your communication\, partner yog
 a can have a positive effect on you and your connections that extends far 
 beyond the physical. It's a gentle\, strong practice\, available for every
 one’s level\, including those without previous experience.\nThai Massage
  is a clothed massage practice. Guided and supported throughout\, to relea
 se tension and stress in a safe &amp\; respectful manner. Thai Massage use
 s gentle pressure\, stretching techniques and joint mobilisations to relax
  &amp\; open the body. The theory suggests that tight muscles cause blocka
 ges within energy lines\, called Sen lines in the Thai Massage tradition. 
 These blockages reduce the flow of life energy\, resulting in stiffness\, 
 pain\, and illness. Thai massage uses techniques that open the Sen to corr
 ect the flow of life energy.\nBio's\nEmilia Gzyl is a Transformational Coa
 ch\, Yin Yoga Teacher\, experienced Massage Therapist and NLP Master. She'
 s been offering Healing and Massage sessions to her clients in her establi
 shed practice in Bristol for the last 12 years. Emilia has dedicated her p
 ast 13 years to the in-depth exploration of interconnectedness of body/min
 d/spirit. She is endlessly fascinated by the art of touch and conscious co
 mmunication in people's lives. She is passionate about dance\, movement\, 
 touch &amp\; the possibilities offered by them.\nwww.healingmassagebristol
 .co.uk\nAsher Levin has been practicing Contact Improvisation\, performing
  physical theatre\, teaching and leading workshops for over 25 years. He's
  taught CI internationally since 2008. In CI\, he loves the practice of le
 arning to trust ourselves and others - even when meeting the unknown - in 
 physical\, artistic\, creative and personal relationships. The ever changi
 ng orientations of CI\, full of movement potential\, provide him with fres
 h perspectives. Being off-balance\, while dynamic and flowing as a creativ
 e practice is incredibly liberating.\n*"The only real voyage of discovery 
 consists not in seeking new landscapes but in having new eyes." Marcel Pro
 ust*\nThere are 26 tickets\, so book early to guarantee a place.\nBooking:
  tickettailor.com/events/asherlevinevents\nEnquiries and info:\ne: asher.
 levin.mail@gmail.com\nt: 0799 9934369
ATTACH;FMTTYPE=image/jpeg:https://contactdance.co.uk/wp-content/uploads/20
 22/03/ash5.jpg
CATEGORIES:CI Workshop,Other Workshop
LOCATION:St. Michael's Parish Hall\, Park Ln\, Bristol BS2 8BE\, Bristol\, 
 BS2 8BE\, United Kingdom
GEO:51.457;-2.59932
X-APPLE-STRUCTURED-LOCATION;VALUE=URI;X-ADDRESS=Park Ln\, Bristol BS2 8BE\,
  Bristol\, BS2 8BE\, United Kingdom;X-APPLE-RADIUS=100;X-TITLE=St. Michael
 's Parish Hall:geo:51.457,-2.59932
END:VEVENT
BEGIN:VTIMEZONE
TZID:Europe/London
X-LIC-LOCATION:Europe/London
BEGIN:DAYLIGHT
DTSTART:20220327T020000
TZOFFSETFROM:+0000
TZOFFSETTO:+0100
TZNAME:BST
END:DAYLIGHT
END:VTIMEZONE
END:VCALENDAR