BEGIN:VCALENDAR
VERSION:2.0
PRODID:-//wp-events-plugin.com//7.2.3.1//EN
TZID:Europe/London
X-WR-TIMEZONE:Europe/London
BEGIN:VEVENT
UID:2425@contactdance.co.uk
DTSTART;TZID=Europe/London:20190811T143000
DTEND;TZID=Europe/London:20190811T173000
DTSTAMP:20190729T175539Z
URL:https://contactdance.co.uk/events/contact-improv-jam/
SUMMARY:Contact Improv Jam - Space 238 - 11 Aug 19 14:30
DESCRIPTION:\n\nHi folks\, join us for an informal CI jam!\n\nWe've booked 
 the space for 3 hours to give time to land and to wind down gently.\n\nWe'
 ll have a mixture of silence\, recorded music and (hopefully) some live mu
 sic!\n\nWe've hired the space as a gift to you\, but we'll leave a hat out
  if you'd like to donate to help cover the cost.
CATEGORIES:CI Jam
LOCATION:Space 238\, 238 Stapleton Road\, Bristol\, BS5 0NT\, United Kingdo
 m
GEO:51.4653779;-2.5697543999999652
X-APPLE-STRUCTURED-LOCATION;VALUE=URI;X-ADDRESS=238 Stapleton Road\, Bristo
 l\, BS5 0NT\, United Kingdom;X-APPLE-RADIUS=100;X-TITLE=Space 238:geo:51.4
 653779,-2.5697543999999652
END:VEVENT
BEGIN:VTIMEZONE
TZID:Europe/London
X-LIC-LOCATION:Europe/London
BEGIN:DAYLIGHT
DTSTART:20190331T020000
TZOFFSETFROM:+0000
TZOFFSETTO:+0100
TZNAME:BST
END:DAYLIGHT
END:VTIMEZONE
END:VCALENDAR