BEGIN:VCALENDAR
VERSION:2.0
PRODID:-//wp-events-plugin.com//7.2.3.1//EN
TZID:Europe/London
X-WR-TIMEZONE:Europe/London
BEGIN:VEVENT
UID:1774@contactdance.co.uk
DTSTART;TZID=Europe/London;VALUE=DATE:20150523
DTEND;TZID=Europe/London;VALUE=DATE:20150525
DTSTAMP:20150417T170812Z
URL:https://contactdance.co.uk/events/contact-improvisation-and-shiatsu-wo
 rkshop-with-ray-chung/
SUMMARY:Contact Improvisation and Shiatsu workshop with Ray Chung - Wild Go
 ose Space - 23 May 15 09:00
DESCRIPTION:Touch into Movement workshop Bristol 23/24 May 2015\nParallels 
 between shiatsu and CI are examined and explored as different levels of to
 uch and weight give rise to similar bodily connections and pathways in bot
 h practices. Drawing on the movement vocabulary of Contact Improvisation\,
  judo\, and shiatsu\, we will mix and match\, contrast and compare and re-
 invent new ways of using our bodies as we work with the bodies of others. 
 These classes will work with the individual´s particular way of moving an
 d the organization of their body to enable the effortless\, integration of
  movement and bodywork (shiatsu) into dancing. Fundamental concepts of shi
 atsu\, meridians\, and tsubos\, as well as functional and experiential ana
 tomical features will be covered. Some experience with dance or CI is desi
 rable but not essential.\nRay Chung is a performer\, teacher\, engineer\, 
 and artist\nwho has a passion for dancing which he likes to share\nwith ot
 her people. His main focus is improvisation and he\nhas worked with Contac
 t Improvisation since 1979 as part\nof improvisational performance practic
 e and integrates\nother movement forms into his work\, including martial a
 rts\,\nbodywork and Authentic Movement. Ray has worked with\nthe leading p
 roponents of Contact Improvisation and\nregularly collaborates with dancer
 s\, musicians\, and other\nartists. His work has been featured at numerous
  national\nand international festivals and venues. Currently based in\nSan
  Francisco\, Ray regularly teaches abroad.\nFixed price for the event is 
 £90  Book here:   http://contactdance2.apphb.com/Touch-into-movement-M
 ay-2015/Bookings/Create\n\nAll levels of experience welcome - please ask i
 f you have any questions about this. Contact:\n\ncontactimprov_shiatsu_inf
 o@yahoo.co.uk\n\nThis workshop is intended to be a small intensive workgro
 up so please book early.\n\nWhat to expect at Touch into Movement weekend?
 \n\nContact Improvisation is an evolving system of movement form based on 
 the communication between two moving bodies that are in physical contact a
 nd their combined relationship to the physical laws that govern their moti
 on—gravity\, momentum\, inertia.\nIt is a free play with balance\, bring
 ing forth a physical/emotional truth about a shared moment of movement tha
 t leaves the participants informed\, centered\, and enlivened. [ early def
 inition by Steve Paxton and others\, 1970s\, from CQ Vol. 5:1\, Fall 1979 
 ]\n\nIn my recent years of practicing CI\, I became curious about some of 
 the in – the - body pathways that often enable more easy and natural flo
 w of solo dance and may be pivotal for our level of openness into sensatio
 n and skills of negotiation in improvisation dialogues. I look forward to 
 experiencing where we get to go together at the Touch Into Movement.\nAgni
 eszka Grenckowska\n\nShiatsu is a bodywork therapy\, which supports body
 ’s natural wisdom and intuition creating space for healing.\nShiatsu has
  its roots in Traditional Chinese Medicine and its diagnostics but the ver
 y important aspect is based on the human contact\, touch in the present mo
 ment.\n\nAs Shiatsu so much relates to the movement of energy in the body 
 or its restricted flow\, a practitioner follows it intuitively\, meeting a
 nother where the need is. And in this meeting there is a great potential f
 or transformation and healing.\n\nIn my own work as a shiatsu practitioner
  I greatly value a spontaneous and playful approach to shiatsu and I am ve
 ry excited about the opportunity Touch Into Movement workshop will give.\n
 Lets all dive into unknown…\nKasia Bratek
ATTACH;FMTTYPE=image/jpeg:https://contactdance.co.uk/wp-content/uploads/20
 15/04/chung1-e1428516594401.jpg
CATEGORIES:CI Workshop
LOCATION:Wild Goose Space\, 228 Mina Road\, Bristol\, BS2 9YP\, United King
 dom
GEO:51.4740089;-2.5772335999999996
X-APPLE-STRUCTURED-LOCATION;VALUE=URI;X-ADDRESS=228 Mina Road\, Bristol\, B
 S2 9YP\, United Kingdom;X-APPLE-RADIUS=100;X-TITLE=Wild Goose Space:geo:51
 .4740089,-2.5772335999999996
END:VEVENT
BEGIN:VTIMEZONE
TZID:Europe/London
X-LIC-LOCATION:Europe/London
BEGIN:DAYLIGHT
DTSTART:20150329T020000
TZOFFSETFROM:+0000
TZOFFSETTO:+0100
TZNAME:BST
END:DAYLIGHT
END:VTIMEZONE
END:VCALENDAR