BEGIN:VCALENDAR
VERSION:2.0
PRODID:-//wp-events-plugin.com//7.2.3.1//EN
TZID:Europe/London
X-WR-TIMEZONE:Europe/London
BEGIN:VEVENT
UID:2764@contactdance.co.uk
DTSTART;TZID=Europe/London:20240915T171500
DTEND;TZID=Europe/London:20240915T193000
DTSTAMP:20240723T092150Z
URL:https://contactdance.co.uk/events/contact-improvisation-beginners-clas
 ses-2024-09-15/
SUMMARY:Contact Improvisation Beginners Classes - 63rd Bristol Scouts Hut -
  15 Sep 24 17:15
DESCRIPTION:\nBristol Contact Improvisation presentsOngoing beginners class
 es (2hrs class) covering the fundamentals of Contact Improvisation.\nHere 
 is what it can look like https://www.youtube.com/watch?v=2eQ91vd1KBI\n\nE
 ach attendee is welcome (on one occasion only) to bring a friend for free!
 \n\nTeachers: Yasin Hussain\, Edwina Pereira\, Jan-Ming Lee\, Sam Bloomfie
 ld\, Karen Logan Woods\, Simon Leach\, Claire Coveney\, Grace Newman.\nThe
 re are different teachers different weeks\, so you can experience differen
 t styles and perspectives in each class.\n\nThe classes will include:- Dev
 eloping body awareness through movement in space- Learning to share weight
  with others through a point of contact- Using gravity to inform our movem
 ent explorations- Developing a strong sense of our connection with the gro
 und\, both directly and through contact with others- Embodying movement pa
 thways\, both solo and in contact- Exploring different qualities of moveme
 nt and touch- Opportunities to integrate material from exercises through s
 olo and group improvisation\n\nDates:Sunday 15th\, 29th SeptemberSunday 20
 th OctoberSunday 3rd\, 17th NovemberSunday 1st\, 15th December\nTime: 5.15
 pm - 7.30pm. (Doors open at 5.15pm\, class starts 5:30. Please arrive in g
 ood time so we can start together.)\nLocation: Hut 6388\, Bartholomew's Ro
 ad\, St Andrews\, Bristol BS 79BJ\n\nCostIndividual class: £10 Concession
 \, £13 waged\, £16 ContributorWe don't want to exclude anyone because of
  financial circumstances. Please contact us on info@contactdance.co.uk if 
 you can't afford the concession price.\n\nBooking: https://www.tickettail
 or.com/.../bristolcontactim.../1322702The space is limited to 18 people. T
 o avoid disappointment\, please do book in advance once booking is open.\n
 Any queries\, email info@contactdance.co.uk\nWe aim to provide an inclusiv
 e environment for all bodies. If you have any specific requirements\, plea
 se do let us know when making a booking.\n\nAbout CIContact Improvisation 
 is an open-ended exploration of the kinaesthetic possibilities of bodies m
 oving through contact. Sometimes wild and athletic\, sometimes quiet and m
 editative\, it is a form open to all bodies and enquiring minds. The pract
 ice includes rolling\, falling\, being upside down\, following a physical 
 point of contact\, supporting and giving weight to a partner. It is a free
  play with balance\, of no set outcome\, bringing forth a physical/emotion
 al truth about a shared moment of movement that leaves the participants in
 formed\, centered\, and enlivened. (Paxton\, Chung)\n\nFor more informatio
 n about this practice and Bristol CI\, please visit: https://contactdance
 .co.uk/\nPhotography: Ella SwanelloDancers: Edwina Pereira and Grace Newma
 n
ATTACH;FMTTYPE=image/jpeg:https://contactdance.co.uk/wp-content/uploads/20
 23/03/grace.jpg
CATEGORIES:CI Class
LOCATION:63rd Bristol Scouts Hut\, St Bartholomews Road\, St Andrews\, Bris
 tol\, BS7 9BJ\, United Kingdom
X-APPLE-STRUCTURED-LOCATION;VALUE=URI;X-ADDRESS=St Bartholomews Road\, St A
 ndrews\, Bristol\, BS7 9BJ\, United Kingdom;X-APPLE-RADIUS=100;X-TITLE=63r
 d Bristol Scouts Hut:geo:0,0
END:VEVENT
BEGIN:VTIMEZONE
TZID:Europe/London
X-LIC-LOCATION:Europe/London
BEGIN:DAYLIGHT
DTSTART:20240331T020000
TZOFFSETFROM:+0000
TZOFFSETTO:+0100
TZNAME:BST
END:DAYLIGHT
END:VTIMEZONE
END:VCALENDAR