BEGIN:VCALENDAR
VERSION:2.0
PRODID:-//wp-events-plugin.com//7.2.3.1//EN
TZID:Europe/London
X-WR-TIMEZONE:Europe/London
BEGIN:VEVENT
UID:2763@contactdance.co.uk
DTSTART;TZID=Europe/London:20240915T000000
DTEND;TZID=Europe/London:20241215T000000
DTSTAMP:20240716T113740Z
URL:https://contactdance.co.uk/event-recurring/contact-improvisation-begin
 ners-classes/
SUMMARY:Contact Improvisation Beginners Classes - 58th Bristol Scout Hut - 
 15 Sep 24 00:00
DESCRIPTION:\nBristol Contact Improvisation presentsOngoing beginners class
 es (2hrs class) covering the fundamentals of Contact Improvisation.\nHere 
 is what it can look like https://www.youtube.com/watch?v=2eQ91vd1KBI\n\nT
 eachers: Yasin Hussain\, Edwina Pereira\, Jan-Ming Lee\, Sam Bloomfield\, 
 Karen Logan Woods\, Simon Leach\, Claire Coveney\, Grace Newman.\nThere ar
 e different teachers different weeks\, so you can experience different sty
 les and perspectives in each class.\n\nThe classes will include:- Developi
 ng body awareness through movement in space- Learning to share weight with
  others through a point of contact- Using gravity to inform our movement e
 xplorations- Developing a strong sense of our connection with the ground\,
  both directly and through contact with others- Embodying movement pathway
 s\, both solo and in contact- Exploring different qualities of movement an
 d touch- Opportunities to integrate material from exercises through solo a
 nd group improvisation\n\nDates:Sunday 15th\, 29th SeptemberSunday 20th Oc
 toberSunday 3rd\, 17th NovemberSunday 1st\, 15th December\nTime: 5.15pm - 
 7.30pm. (Doors open at 5.15pm\, class starts 5:30. Please arrive in good t
 ime so we can start together.)\nLocation: Hut 6388\, Bartholomew's Road\, 
 St Andrews\, Bristol BS 79BJ\n\nCostIndividual class: £10 Concession\, £
 13 waged\, £16 ContributorWe don't want to exclude anyone because of fina
 ncial circumstances. Please contact us on info@contactdance.co.uk if you c
 an't afford the concession price.\n\nBooking: https://www.tickettailor.co
 m/.../bristolcontactim.../1322702The space is limited to 18 people. To avo
 id disappointment\, please do book in advance once booking is open.\nAny q
 ueries\, email info@contactdance.co.uk\nWe aim to provide an inclusive env
 ironment for all bodies. If you have any specific requirements\, please do
  let us know when making a booking.\n\nAbout CIContact Improvisation is an
  open-ended exploration of the kinaesthetic possibilities of bodies moving
  through contact. Sometimes wild and athletic\, sometimes quiet and medita
 tive\, it is a form open to all bodies and enquiring minds. The practice i
 ncludes rolling\, falling\, being upside down\, following a physical point
  of contact\, supporting and giving weight to a partner. It is a free play
  with balance\, of no set outcome\, bringing forth a physical/emotional tr
 uth about a shared moment of movement that leaves the participants informe
 d\, centered\, and enlivened. (Paxton\, Chung)\n\nFor more information abo
 ut this practice and Bristol CI\, please visit: https://contactdance.co.u
 k/\nPhotography: Ella SwanelloDancers: Edwina Pereira and Grace Newman
ATTACH;FMTTYPE=image/jpeg:https://contactdance.co.uk/wp-content/uploads/20
 23/03/grace.jpg
CATEGORIES:CI Class
LOCATION:58th Bristol Scout Hut\, Gadshill Road\, Bristol\, BS5 6PU\, Unite
 d Kingdom
X-APPLE-STRUCTURED-LOCATION;VALUE=URI;X-ADDRESS=Gadshill Road\, Bristol\, B
 S5 6PU\, United Kingdom;X-APPLE-RADIUS=100;X-TITLE=58th Bristol Scout Hut:
 geo:0,0
END:VEVENT
BEGIN:VTIMEZONE
TZID:Europe/London
X-LIC-LOCATION:Europe/London
BEGIN:DAYLIGHT
DTSTART:20240331T020000
TZOFFSETFROM:+0000
TZOFFSETTO:+0100
TZNAME:BST
END:DAYLIGHT
BEGIN:STANDARD
DTSTART:20241027T010000
TZOFFSETFROM:+0100
TZOFFSETTO:+0000
TZNAME:GMT
END:STANDARD
END:VTIMEZONE
END:VCALENDAR