BEGIN:VCALENDAR
VERSION:2.0
PRODID:-//wp-events-plugin.com//7.2.3.1//EN
TZID:Europe/London
X-WR-TIMEZONE:Europe/London
BEGIN:VEVENT
UID:2596@contactdance.co.uk
DTSTART;TZID=Europe/London:20230416T171500
DTEND;TZID=Europe/London:20230416T193000
DTSTAMP:20230410T181537Z
URL:https://contactdance.co.uk/events/contact-improvisation-beginners-seri
 es-2023-04-16/
SUMMARY:Contact Improvisation: Beginners series - 63rd Bristol Scouts Hut -
  16 Apr 23 17:15
DESCRIPTION:\nBristol Contact Improvisation presents\nA 6 week beginners se
 ries (2hrs class) covering the fundamentals of Contact Improvisation.\nTea
 chers: Yasin Hussain\, Edwina Pereira\, Lucia Navarro\, Jan-Ming Lee\, Sam
  Bloomfield\, Karen Logan Woods\, Simon Leach\, Claire Coveney\, Grace New
 man. Watch some of us dancing here.\n\nThere are different pairs of teach
 ers each week\, so you can experience different styles and perspectives in
  each class.\n\nDates:\nSunday 16th &amp\; 30th April\nSunday 7th\, 21st M
 ay\,\nSunday 4th\, 18th June\nTime: 5.30pm - 7.30pm. (Door open at 5.15pm 
 - please do arrive early so the whole group can start together)\nLocation:
  Hut 6388\, Bartholomew's Road\, St Andrews\, Bristol BS 79BJ\nCost\nDrop 
 in: £10 Concession\, £13 waged\, £20 Contributor\nWhole series: £50 Co
 ncession\, £65 waged\, £100 Contributor\n\n* A further discount is avail
 able on the whole series cost for anyone committed to the course but limit
 ed by financial reasons. Please enquire via email for more information.\nP
 ayments can be made via paypal\, bank transfer or cash on the day.\nBank T
 ransfer:\nBristol Contact Improvisation\n08-92-99\n65690905\nPaypal: booki
 ngs@contactdance.co.uk\nThe space is limited to 18 people. To avoid disapp
 ointment\, please do book in advance and let us know that you're coming by
  emailing us at:\nbookings@contactdance.co.uk\nWe aim to provide an inclus
 ive environment for all bodies. If you have any specific requirements\, pl
 ease do let us know when making a booking.\n\nAbout CI\nContact Improvisat
 ion is an open-ended exploration of the kinaesthetic possibilities of bodi
 es moving through contact. Sometimes wild and athletic\, sometimes quiet a
 nd meditative\, it is a form open to all bodies and enquiring minds. The p
 ractice includes rolling\, falling\, being upside down\, following a physi
 cal point of contact\, supporting and giving weight to a partner. It is a 
 free play with balance\, of no set outcome\, bringing forth a physical/emo
 tional truth about a shared moment of movement that leaves the participant
 s informed\, centered\, and enlivened. (Paxton\, Chung)\nFor more informat
 ion about this practice and Bristol CI\, please visit: http://contactdanc
 e.co.uk/\nPhotography: Ella Swanello\nDancers: Edwina Pereira and Grace Ne
 wman
ATTACH;FMTTYPE=image/jpeg:https://contactdance.co.uk/wp-content/uploads/20
 23/03/grace.jpg
CATEGORIES:CI Class
LOCATION:63rd Bristol Scouts Hut\, St Bartholomews Road\, St Andrews\, Bris
 tol\, BS7 9BJ\, United Kingdom
X-APPLE-STRUCTURED-LOCATION;VALUE=URI;X-ADDRESS=St Bartholomews Road\, St A
 ndrews\, Bristol\, BS7 9BJ\, United Kingdom;X-APPLE-RADIUS=100;X-TITLE=63r
 d Bristol Scouts Hut:geo:0,0
END:VEVENT
BEGIN:VTIMEZONE
TZID:Europe/London
X-LIC-LOCATION:Europe/London
BEGIN:DAYLIGHT
DTSTART:20230326T020000
TZOFFSETFROM:+0000
TZOFFSETTO:+0100
TZNAME:BST
END:DAYLIGHT
END:VTIMEZONE
END:VCALENDAR