BEGIN:VCALENDAR
VERSION:2.0
PRODID:-//wp-events-plugin.com//7.2.3.1//EN
TZID:Europe/London
X-WR-TIMEZONE:Europe/London
BEGIN:VEVENT
UID:2599@contactdance.co.uk
DTSTART;TZID=Europe/London:20230521T171500
DTEND;TZID=Europe/London:20230521T193000
DTSTAMP:20230523T101439Z
URL:https://contactdance.co.uk/events/contact-improvisation-beginners-seri
 es-2023-05-28/
SUMMARY:Contact Improvisation: Beginners series - 63rd Bristol Scouts Hut -
  21 May 23 17:15
DESCRIPTION:\nBristol Contact Improvisation presents\nA 6 week beginners se
 ries (2hrs class) covering the fundamentals of Contact Improvisation.\nTea
 chers: Yasin Hussain\, Edwina Pereira\, Lucia Navarro\, Jan-Ming Lee\, Sam
  Bloomfield\, Karen Logan Woods\, Simon Leach\, Claire Coveney\, Grace New
 man. Watch some of us dancing here.There are different pairs of teachers 
 each week\, so you can experience different styles and perspectives in eac
 h class.Dates:\nSunday 16th &amp\; 30th April\nSunday 7th\, 21st May\,\nSu
 nday 4th\, 18th June\nTime: 5.30pm - 7.30pm. (Door open at 5.15pm - please
  do arrive early so the whole group can start together)\nLocation: Hut 638
 8\, Bartholomew's Road\, St Andrews\, Bristol BS 79BJ\nCost\nDrop in: £10
  Concession\, £13 waged\, £20 Contributor\nWhole series: £50 Concession
 \, £65 waged\, £100 Contributor* A further discount is available on the 
 whole series cost for anyone committed to the course but limited by financ
 ial reasons. Please enquire via email for more information.\nPayments can 
 be made via bank transfer or cash/card on the day.\nBank Transfer:\nBristo
 l Contact Improvisation\n08-92-99\n65690905The space is limited to 18 peop
 le. To avoid disappointment\, please do book in advance and let us know th
 at you're coming by emailing us at:\nbookings@contactdance.co.uk\nWe aim t
 o provide an inclusive environment for all bodies. If you have any specifi
 c requirements\, please do let us know when making a booking.\n\nAbout CI\
 nContact Improvisation is an open-ended exploration of the kinaesthetic po
 ssibilities of bodies moving through contact. Sometimes wild and athletic\
 , sometimes quiet and meditative\, it is a form open to all bodies and enq
 uiring minds. The practice includes rolling\, falling\, being upside down\
 , following a physical point of contact\, supporting and giving weight to 
 a partner. It is a free play with balance\, of no set outcome\, bringing f
 orth a physical/emotional truth about a shared moment of movement that lea
 ves the participants informed\, centered\, and enlivened. (Paxton\, Chung)
 \nFor more information about this practice and Bristol CI\, please visit:
  http://contactdance.co.uk/\nPhotography: Ella Swanello\nDancers: Edwina 
 Pereira and Grace Newman\n\n
ATTACH;FMTTYPE=image/jpeg:https://contactdance.co.uk/wp-content/uploads/20
 23/03/grace.jpg
CATEGORIES:CI Class
LOCATION:63rd Bristol Scouts Hut\, St Bartholomews Road\, St Andrews\, Bris
 tol\, BS7 9BJ\, United Kingdom
X-APPLE-STRUCTURED-LOCATION;VALUE=URI;X-ADDRESS=St Bartholomews Road\, St A
 ndrews\, Bristol\, BS7 9BJ\, United Kingdom;X-APPLE-RADIUS=100;X-TITLE=63r
 d Bristol Scouts Hut:geo:0,0
END:VEVENT
BEGIN:VTIMEZONE
TZID:Europe/London
X-LIC-LOCATION:Europe/London
BEGIN:DAYLIGHT
DTSTART:20230326T020000
TZOFFSETFROM:+0000
TZOFFSETTO:+0100
TZNAME:BST
END:DAYLIGHT
END:VTIMEZONE
END:VCALENDAR