BEGIN:VCALENDAR
VERSION:2.0
PRODID:-//wp-events-plugin.com//7.2.3.1//EN
TZID:Europe/London
X-WR-TIMEZONE:Europe/London
BEGIN:VEVENT
UID:2448@contactdance.co.uk
DTSTART;TZID=Europe/London:20200112T180000
DTEND;TZID=Europe/London:20200112T201500
DTSTAMP:20200109T200442Z
URL:https://contactdance.co.uk/events/contact-improvisation-class-and-jam-
 2-2020-01-12/
SUMMARY:Contact Improvisation Class and Jam - DMAC\, (4th Floor) Hamilton H
 ouse - 12 Jan 20 18:00
DESCRIPTION:Contact Improvisation is based on the physical exploration of h
 ow the body moves through its own intelligence and how two or more bodies 
 in contact with each other can move together. A dance that fine tunes your
  senses and wakes up your ability to listen and respond to what is happeni
 ng in the moment. Sometimes wild and athletic\, sometimes quiet and medita
 tive\, and all levels in between. It is a form open to all bodies and inqu
 iring minds.\n\nThe class will be led from 6 - 7.30pm leading into open ja
 m from 7.30pm - 8.15pm. The session runs from 6 to 8:15\, so please be on 
 time or you might not be able to participate.\n\n[wonderplugin_video ifram
 e="https://www.youtube.com/watch?v=KEDo0qdCSPY" lightbox=0 lightboxsize=1 
 lightboxwidth=960 lightboxheight=540 autoopen=0 autoopendelay=0 autoclose=
 0 lightboxtitle="" lightboxgroup="" lightboxshownavigation=0 showimage="" 
 lightboxoptions="" videowidth=600 videoheight=400 keepaspectratio=1 autopl
 ay=0 loop=0 videocss="position:relative\;display:block\;background-color:#
 000\;overflow:hidden\;max-width:100%\;margin:0 auto\;" playbutton="http://
 contactdance.co.uk/wp-content/plugins/wonderplugin-video-embed/engine/play
 video-64-64-0.png"]\n\nLaura Doehler\, BA (Dance Theatre) and MA (Performa
 nce Making)\, teaches movement (release\, CI\, improvisation\, composition
  and movement analysis) in HE at the National School of Circus Arts London
 . H2dance\, Tara’ Darquin\, Monsur Ali and Anne-Gaelle Thiriot are artis
 ts she is currently working with as performer\, collaborator and researche
 r.\n\nPicking up on impermanence and change Laura chooses improvisation an
 d CI to trace and train focus that observes change. She initiates collecti
 ve processes that disseminate an embodiment of ideas\, which circle around
  social connectivity and manifest via events that people can participate i
 n and witness. The shedding of boundaries of self and other and the integr
 ation of performance and practice as part of everyday life are reoccurring
  themes. \n\nThe last Sunday of each month will be an open jam from 6 - 8
 :15pm with a live musician.\n\nThese Sunday sessions are run and taught by
  a community of contact dancers. Classes are open to all levels and genera
 lly led by a different teacher each week.\n\nParticipants are responsible 
 for their own safety and wellbeing in the jam. Take care to be alert and s
 ensitive to yourself and others. The organisers cannot accept responsibili
 ty or liability for injury.
ATTACH;FMTTYPE=image/jpeg:https://contactdance.co.uk/wp-content/uploads/20
 11/07/feet6.jpg
CATEGORIES:CI Class,CI Jam
LOCATION:DMAC\, (4th Floor) Hamilton House\, 80 Stokes Croft\, Bristol\, BS
 1 3QY\, United Kingdom
GEO:51.4629;-2.58991
X-APPLE-STRUCTURED-LOCATION;VALUE=URI;X-ADDRESS=80 Stokes Croft\, Bristol\,
  BS1 3QY\, United Kingdom;X-APPLE-RADIUS=100;X-TITLE=DMAC\, (4th Floor) Ha
 milton House:geo:51.4629,-2.58991
END:VEVENT
BEGIN:VTIMEZONE
TZID:Europe/London
X-LIC-LOCATION:Europe/London
BEGIN:STANDARD
DTSTART:20191027T010000
TZOFFSETFROM:+0100
TZOFFSETTO:+0000
TZNAME:GMT
END:STANDARD
END:VTIMEZONE
END:VCALENDAR