BEGIN:VCALENDAR
VERSION:2.0
PRODID:-//wp-events-plugin.com//7.2.3.1//EN
TZID:Europe/London
X-WR-TIMEZONE:Europe/London
BEGIN:VEVENT
UID:2453@contactdance.co.uk
DTSTART;TZID=Europe/London:20200216T180000
DTEND;TZID=Europe/London:20200216T201500
DTSTAMP:20200210T191624Z
URL:https://contactdance.co.uk/events/contact-improvisation-class-and-jam-
 2-2020-02-16/
SUMMARY:Contact Improvisation Class and Jam - DMAC\, (4th Floor) Hamilton H
 ouse - 16 Feb 20 18:00
DESCRIPTION:Contact Improvisation is based on the physical exploration of h
 ow the body moves through its own intelligence and how two or more bodies 
 in contact with each other can move together. A dance that fine tunes your
  senses and wakes up your ability to listen and respond to what is happeni
 ng in the moment. Sometimes wild and athletic\, sometimes quiet and medita
 tive\, and all levels in between. It is a form open to all bodies and inqu
 iring minds.\n\nThe class will be led from 6 - 7.30pm leading into open ja
 m from 7.30pm - 8.15pm. The whole session runs from 6 to 8:15. Please be o
 n time or you may not be able to take part.\nClass Description\n\n\nPhoto 
 credit Karel Mujica / Joon Dance\nFirst humans in the world…\nDiscoverin
 g our bodies and the bodies of others as if for the first time. We will en
 deavour to find a childlike playfulness in our exploration of the mechanic
 s and sensations involved in improvised movement through space and in part
 nership with one or more other body”\n\nThe last Sunday of each month wi
 ll usually be an open jam from 6 - 8:15pm with a live musician. Please not
 e that the next one will actually be Sunday 1st March instead.\n\nThese Su
 nday sessions are run and taught by a community of contact dancers. Classe
 s are open to all levels and generally led by a different teacher each wee
 k.\n\nParticipants are responsible for their own safety and wellbeing in t
 he jam. Take care to be alert and sensitive to yourself and others. The or
 ganisers cannot accept responsibility or liability for injury.
ATTACH;FMTTYPE=image/jpeg:https://contactdance.co.uk/wp-content/uploads/20
 11/07/feet6.jpg
CATEGORIES:CI Class,CI Jam
LOCATION:DMAC\, (4th Floor) Hamilton House\, 80 Stokes Croft\, Bristol\, BS
 1 3QY\, United Kingdom
GEO:51.4629;-2.58991
X-APPLE-STRUCTURED-LOCATION;VALUE=URI;X-ADDRESS=80 Stokes Croft\, Bristol\,
  BS1 3QY\, United Kingdom;X-APPLE-RADIUS=100;X-TITLE=DMAC\, (4th Floor) Ha
 milton House:geo:51.4629,-2.58991
END:VEVENT
BEGIN:VTIMEZONE
TZID:Europe/London
X-LIC-LOCATION:Europe/London
BEGIN:STANDARD
DTSTART:20191027T010000
TZOFFSETFROM:+0100
TZOFFSETTO:+0000
TZNAME:GMT
END:STANDARD
END:VTIMEZONE
END:VCALENDAR