BEGIN:VCALENDAR
VERSION:2.0
PRODID:-//wp-events-plugin.com//7.2.3.1//EN
TZID:Europe/London
X-WR-TIMEZONE:Europe/London
BEGIN:VEVENT
UID:2427@contactdance.co.uk
DTSTART;TZID=Europe/London:20190908T180000
DTEND;TZID=Europe/London:20190908T201500
DTSTAMP:20190904T181432Z
URL:https://contactdance.co.uk/events/contact-improvisation-class-and-jam-
 2019-09-08/
SUMMARY:Contact Improvisation Class and Jam - DMAC\, (4th Floor) Hamilton H
 ouse - 8 Sep 19 18:00
DESCRIPTION:Contact Improvisation is based on the physical exploration of h
 ow the body moves through its own intelligence and how two or more bodies 
 in contact with each other can move together. A dance that fine tunes your
  senses and wakes up your ability to listen and respond to what is happeni
 ng in the moment. Sometimes wild and athletic\, sometimes quiet and medita
 tive\, and all levels in between. It is a form open to all bodies and inqu
 iring minds.\n\nThe class will be led from 6 - 7.30pm leading into open ja
 m from 7.30pm - 8.15pm.\n\nClass Description\n\nIn the class we will explo
 re all the various ways of working with the centre. Unweighted and weighte
 d\, moving and still\, the centre will become our tool to understand the p
 rinciples of improvised dance we are willingly engaging in.\nThe facilitat
 ion into an open jam will include an authentic movement dance score.\nAll 
 are welcome\, please make sure you are familiar with the Contact Improvisa
 tion Dance guidelines and come awake and ready to play.\n\n\n\nPhoto taken
  from the latest edition of the contact quarterly magazine.\n\nThe last Su
 nday of each month will be an open jam from 6 - 8:15pm with a live musicia
 n.\n\nThese Sunday sessions are run and taught by a community of contact d
 ancers. Classes are open to all levels and generally led by a different te
 acher each week.\n\nParticipants are responsible for their own safety and 
 wellbeing in the jam. Take care to be alert and sensitive to yourself and 
 others. The organisers cannot accept responsibility or liability for injur
 y.
CATEGORIES:CI Class,CI Jam
LOCATION:DMAC\, (4th Floor) Hamilton House\, 80 Stokes Croft\, Bristol\, BS
 1 3QY\, United Kingdom
GEO:51.4629;-2.58991
X-APPLE-STRUCTURED-LOCATION;VALUE=URI;X-ADDRESS=80 Stokes Croft\, Bristol\,
  BS1 3QY\, United Kingdom;X-APPLE-RADIUS=100;X-TITLE=DMAC\, (4th Floor) Ha
 milton House:geo:51.4629,-2.58991
END:VEVENT
BEGIN:VTIMEZONE
TZID:Europe/London
X-LIC-LOCATION:Europe/London
BEGIN:DAYLIGHT
DTSTART:20190331T020000
TZOFFSETFROM:+0000
TZOFFSETTO:+0100
TZNAME:BST
END:DAYLIGHT
END:VTIMEZONE
END:VCALENDAR