BEGIN:VCALENDAR
VERSION:2.0
PRODID:-//wp-events-plugin.com//7.2.3.1//EN
TZID:Europe/London
X-WR-TIMEZONE:Europe/London
BEGIN:VEVENT
UID:2430@contactdance.co.uk
DTSTART;TZID=Europe/London:20190929T180000
DTEND;TZID=Europe/London:20190929T201500
DTSTAMP:20190924T110804Z
URL:https://contactdance.co.uk/events/contact-improvisation-class-and-jam-
 2019-09-29/
SUMMARY:Contact Improvisation Jam - DMAC\, (4th Floor) Hamilton House - 29 
 Sep 19 18:00
DESCRIPTION:Contact Improvisation is based on the physical exploration of h
 ow the body moves through its own intelligence and how two or more bodies 
 in contact with each other can move together. A dance that fine tunes your
  senses and wakes up your ability to listen and respond to what is happeni
 ng in the moment. Sometimes wild and athletic\, sometimes quiet and medita
 tive\, and all levels in between. It is a form open to all bodies and inqu
 iring minds.\n\nThis is the last Sunday of each month so there will be an 
 open jam from 6 - 8:15pm with a live musician.\n\n[wonderplugin_video ifra
 me="https://www.youtube.com/watch?v=uvECj6Sow90" lightbox=0 lightboxsize=1
  lightboxwidth=960 lightboxheight=540 autoopen=0 autoopendelay=0 autoclose
 =0 lightboxtitle="" lightboxgroup="" lightboxshownavigation=0 showimage=""
  lightboxoptions="" videowidth=600 videoheight=400 keepaspectratio=1 autop
 lay=0 loop=1 videocss="position:relative\;display:block\;background-color:
 #000\;overflow:hidden\;max-width:100%\;margin:0 auto\;" playbutton="http:/
 /contactdance.co.uk/wp-content/plugins/wonderplugin-video-embed/engine/pla
 yvideo-64-64-0.png"]\n\nVideo courtesy of Ben Green\n\nA jam is an informa
 l gathering of dancers. There is no teacher\, but space and time to develo
 p skills and confidence. You are free to dance\, rest\, or sit and watch\,
  as you wish. The jam provides an opportunity to explore and integrate tec
 hniques you have learned\, and to find your own routes into dancing.\n\nAt
  some jams a teacher will facilitate a score to follow such as a focused (
 silent) jam\, the Underscore (developed by Nancy Stark-Smith)\, or a blind
 fold (or eyes-closed) jam\, this will normally be advertised via our regul
 ar mailout – so sign-up if you want advance notice.\n\n 	Live musicia
 ns will improvise with the dancing at many of the jams.\n 	For more infor
 mation\, please email info@contactdance.co.uk or contact the individual t
 eachers.\n\nParticipants are responsible for their own safety and wellbein
 g in the jam. Take care to be alert and sensitive to yourself and others. 
 The organisers cannot accept responsibility or liability for injury.
CATEGORIES:CI Jam
LOCATION:DMAC\, (4th Floor) Hamilton House\, 80 Stokes Croft\, Bristol\, BS
 1 3QY\, United Kingdom
GEO:51.4629;-2.58991
X-APPLE-STRUCTURED-LOCATION;VALUE=URI;X-ADDRESS=80 Stokes Croft\, Bristol\,
  BS1 3QY\, United Kingdom;X-APPLE-RADIUS=100;X-TITLE=DMAC\, (4th Floor) Ha
 milton House:geo:51.4629,-2.58991
END:VEVENT
BEGIN:VTIMEZONE
TZID:Europe/London
X-LIC-LOCATION:Europe/London
BEGIN:DAYLIGHT
DTSTART:20190331T020000
TZOFFSETFROM:+0000
TZOFFSETTO:+0100
TZNAME:BST
END:DAYLIGHT
END:VTIMEZONE
END:VCALENDAR