BEGIN:VCALENDAR
VERSION:2.0
PRODID:-//wp-events-plugin.com//7.2.3.1//EN
TZID:Europe/London
X-WR-TIMEZONE:Europe/London
BEGIN:VEVENT
UID:2438@contactdance.co.uk
DTSTART;TZID=Europe/London:20191124T180000
DTEND;TZID=Europe/London:20191124T201500
DTSTAMP:20191118T145509Z
URL:https://contactdance.co.uk/events/contact-improvisation-class-and-jam-
 2019-11-24/
SUMMARY:Contact Improvisation Class and Jam - DMAC\, (4th Floor) Hamilton H
 ouse - 24 Nov 19 18:00
DESCRIPTION:Contact Improvisation is based on the physical exploration of h
 ow the body moves through its own intelligence and how two or more bodies 
 in contact with each other can move together. A dance that fine tunes your
  senses and wakes up your ability to listen and respond to what is happeni
 ng in the moment. Sometimes wild and athletic\, sometimes quiet and medita
 tive\, and all levels in between. It is a form open to all bodies and inqu
 iring minds.\n\nThis is the last Sunday of the month so there will be an o
 pen jam from 6 – 8:15pm with a live musician.\n\nA jam is an informal ga
 thering of dancers. There is no teacher\, but space and time to develop sk
 ills and confidence. You are free to dance\, rest\, or sit and watch\, as 
 you wish. The jam provides an opportunity to explore and integrate techniq
 ues you have learned\, and to find your own routes into dancing.\n\nNo nee
 d to book in advance\, just drop in.\n\n£8 concessions\, £10 full\, or b
 ook on MoveGB\n\n[wonderplugin_video iframe="https://www.youtube.com/watch
 ?v=uvECj6Sow90" lightbox=0 lightboxsize=1 lightboxwidth=960 lightboxheight
 =540 autoopen=0 autoopendelay=0 autoclose=0 lightboxtitle="" lightboxgroup
 ="" lightboxshownavigation=0 showimage="" lightboxoptions="" videowidth=60
 0 videoheight=400 keepaspectratio=1 autoplay=0 loop=1 videocss="position:r
 elative\;display:block\;background-color:#000\;overflow:hidden\;max-width:
 100%\;margin:0 auto\;" playbutton="http://contactdance.co.uk/wp-content/pl
 ugins/wonderplugin-video-embed/engine/playvideo-64-64-0.png"]\n\nVideo cou
 rtesy of Ben Green\n\nThese Sunday sessions are run and taught by a commun
 ity of contact dancers. Classes are open to all levels and generally led b
 y a different teacher each week.\n\nParticipants are responsible for their
  own safety and wellbeing in the jam. Take care to be alert and sensitive 
 to yourself and others. The organisers cannot accept responsibility or lia
 bility for injury.
CATEGORIES:CI Class,CI Jam
LOCATION:DMAC\, (4th Floor) Hamilton House\, 80 Stokes Croft\, Bristol\, BS
 1 3QY\, United Kingdom
GEO:51.4629;-2.58991
X-APPLE-STRUCTURED-LOCATION;VALUE=URI;X-ADDRESS=80 Stokes Croft\, Bristol\,
  BS1 3QY\, United Kingdom;X-APPLE-RADIUS=100;X-TITLE=DMAC\, (4th Floor) Ha
 milton House:geo:51.4629,-2.58991
END:VEVENT
BEGIN:VTIMEZONE
TZID:Europe/London
X-LIC-LOCATION:Europe/London
BEGIN:STANDARD
DTSTART:20191027T010000
TZOFFSETFROM:+0100
TZOFFSETTO:+0000
TZNAME:GMT
END:STANDARD
END:VTIMEZONE
END:VCALENDAR