BEGIN:VCALENDAR
VERSION:2.0
PRODID:-//wp-events-plugin.com//7.2.3.1//EN
TZID:Europe/London
X-WR-TIMEZONE:Europe/London
BEGIN:VEVENT
UID:2440@contactdance.co.uk
DTSTART;TZID=Europe/London:20191208T180000
DTEND;TZID=Europe/London:20191208T201500
DTSTAMP:20191203T145247Z
URL:https://contactdance.co.uk/events/contact-improvisation-class-and-jam-
 2019-12-08/
SUMMARY:Contact Improvisation Class and Jam - DMAC\, (4th Floor) Hamilton H
 ouse - 8 Dec 19 18:00
DESCRIPTION:Contact Improvisation is based on the physical exploration of h
 ow the body moves through its own intelligence and how two or more bodies 
 in contact with each other can move together. A dance that fine tunes your
  senses and wakes up your ability to listen and respond to what is happeni
 ng in the moment. Sometimes wild and athletic\, sometimes quiet and medita
 tive\, and all levels in between. It is a form open to all bodies and inqu
 iring minds.\n\nThe class will be led from 6 - 7.30pm leading into open ja
 m from 7.30pm - 8.15pm.\n\nPatterns and possibilities\n&nbsp\;\n\nCI class
  on some basic patterns in CI and exploring how to allow spontaneous movem
 ent and unexpected movement pathways to happen. Patterns we will visit inc
 lude\, spirals\, weight sharing\, fear and contraction and upper body bias
 \, and staying on one level \nClass includes warm up and introduction to j
 am. \nSam is a CI facilitator and Multi-modal Dance movement Psychotherapi
 st\n\nThe last Sunday of each month will be an open jam from 6 - 8:15pm wi
 th a live musician.\n\nThese Sunday sessions are run and taught by a commu
 nity of contact dancers. Classes are open to all levels and generally led 
 by a different teacher each week.\n\nParticipants are responsible for thei
 r own safety and wellbeing in the jam. Take care to be alert and sensitive
  to yourself and others. The organisers cannot accept responsibility or li
 ability for injury.
CATEGORIES:CI Class,CI Jam
LOCATION:DMAC\, (4th Floor) Hamilton House\, 80 Stokes Croft\, Bristol\, BS
 1 3QY\, United Kingdom
GEO:51.4629;-2.58991
X-APPLE-STRUCTURED-LOCATION;VALUE=URI;X-ADDRESS=80 Stokes Croft\, Bristol\,
  BS1 3QY\, United Kingdom;X-APPLE-RADIUS=100;X-TITLE=DMAC\, (4th Floor) Ha
 milton House:geo:51.4629,-2.58991
END:VEVENT
BEGIN:VTIMEZONE
TZID:Europe/London
X-LIC-LOCATION:Europe/London
BEGIN:STANDARD
DTSTART:20191027T010000
TZOFFSETFROM:+0100
TZOFFSETTO:+0000
TZNAME:GMT
END:STANDARD
END:VTIMEZONE
END:VCALENDAR