BEGIN:VCALENDAR
VERSION:2.0
PRODID:-//wp-events-plugin.com//7.2.3.1//EN
TZID:Europe/London
X-WR-TIMEZONE:Europe/London
BEGIN:VEVENT
UID:2562@contactdance.co.uk
DTSTART;TZID=Europe/London:20230211T171500
DTEND;TZID=Europe/London:20230506T221500
DTSTAMP:20230207T103747Z
URL:https://contactdance.co.uk/event-recurring/contact-improvisation-gathe
 ring-in-bath/
SUMMARY:Contact Improvisation Gathering in Bath -  - 11 Feb 23 17:15
DESCRIPTION:\n\nhttps://www.tickettailor.com/events/fromecontactimprovisati
 on/850717\n\n11th February\n4th March\n1st April\n6th May\n\nCONTACT IMPRO
 VISATION\nMOVEMENT\nDANCE\n\nA Monthly Gathering\nfirst Saturday of the mo
 nth (except Feb)\nGUIDED CLASSES\n17:15 - 19:00\nJAM WITH WARMUP\n19:00-21
 :00\nSOCIAL/FREE DANCE\n21:00-22:00\n\nSCHEDULE:\n17:15-17:30 ARRIVALS\, T
 EA\, open movement space\n17:30-17:45 EMBODIED SHARING CIRCLE\n17:45-18:00
  GUIDED SOMATIC MOVEMENT\n18:15-18:30 GUIDED FLOORWORK\, dynamic solo move
 ment in and out of the floor\n18:30-18:45 TECHNICAL CI CLASS\n18:45-19:00 
 OPEN CI LAB SPACE\npractice class material or whatever you want\ninvitatio
 n for more experienced dancers to offer help/guidance 121\nfree movement w
 elcome\n19:00-19:15 TEA BREAK (open movement space)\n19:15-21:00 CI JAM (w
 ith warmup)\n11th feb warmup: we will explore the dynamic of relating with
  others in movement while remaining rooted in our own dance\nled by Matthe
 w Adams\nwe will keep the main space free from chat during the jam\nlive a
 nd recorded music interspersed with silence\n21:00-21:15 BODYWORK\, guided
  or self-led\n21:00-22:00 SOCIAL\, FOOD\, OPEN DANCE SPACE\nvegetarian ste
 w available £5 and other snacks/tea\ndepending on the vibe we will play u
 ptempo or downtempo music on the dancefloor for those who want to carry on
  moving\nthere is a separate tearoom for those who want to be away from mu
 sic\n22:00-22:15 ADIEU\n\nlive music: Simon Leach\, Christopher De Graal\,
  Matthew Adams\nall offerings are optional\, there is a tea room you're we
 lcome to sit in and chill/chat at any point\nclasses will be either taught
  by Matthew Adams or other teachers tbc\ntickets in advance or on the door
 \nveggie stew book in advance to guarantee chomping\nif finance is a barri
 er please get in touch fromecontact(at)gmail.com\nSt Marks is a beautiful 
 church space to dance in\n\nTRAVEL / PARKING\nSt Marks is a few minutes wa
 lk from Bath train station\nthere will be a few parking spaces at the venu
 e for those who arrive early\nother parking places to consider:\nCleveland
  Walk just off Bathwick hill: a beautiful 15-20 minute walk through nature
  and along the canal into the city - cross Bathwick Hill and follow the sk
 yline walk route down to the canal\nbehind Widcombe parade (close to venue
 \, apparently there's some free parking there\, I haven't checked it out y
 et!)\nWidcombe hill east of the Tyning (10 mins walk)\n\nLOCATION\nSt Mark
 s Community Centre\, BA2 4PA
ATTACH;FMTTYPE=image/jpeg:https://contactdance.co.uk/wp-content/uploads/20
 23/02/bath.jpg
CATEGORIES:CI Class,CI Jam
END:VEVENT
BEGIN:VTIMEZONE
TZID:Europe/London
X-LIC-LOCATION:Europe/London
BEGIN:STANDARD
DTSTART:20221030T010000
TZOFFSETFROM:+0100
TZOFFSETTO:+0000
TZNAME:GMT
END:STANDARD
BEGIN:DAYLIGHT
DTSTART:20230326T020000
TZOFFSETFROM:+0000
TZOFFSETTO:+0100
TZNAME:BST
END:DAYLIGHT
END:VTIMEZONE
END:VCALENDAR