BEGIN:VCALENDAR
VERSION:2.0
PRODID:-//wp-events-plugin.com//7.2.3.1//EN
TZID:Europe/London
X-WR-TIMEZONE:Europe/London
BEGIN:VEVENT
UID:2488@contactdance.co.uk
DTSTART;TZID=Europe/London:20220417T173000
DTEND;TZID=Europe/London:20220417T210000
DTSTAMP:20220413T192247Z
URL:https://contactdance.co.uk/events/contact-improvisation-jam-and-foodsh
 are/
SUMMARY:Contact Improvisation Jam and Foodshare - Centre for Whole Health -
  17 Apr 22 17:30
DESCRIPTION:\n\nJam and Potluck (Foodshare)\nCentre for Whole Health\,\n12 
 Victoria Pl\, Bedminster\, Bristol BS3 3BP\n\n£5 cash or electronic payme
 nt on the night in order to cover the hire cost.\nCI jam and potluck - wel
 come to all!\nA volunteer can lead a small guided warm up if desired\, and
  live instruments for musical accompaniment are welcome. Bring food to sha
 re and bodies to move !\n\n5:30 Making the space beautiful together!\n5:45
 -7.30 Jam\n7.30 - 9pm Foodshare\nPack up and leave by 9.00pm.\nPlease brin
 g food to share and fairy lights/squishy things to make the space nice.
ATTACH;FMTTYPE=image/jpeg:https://contactdance.co.uk/wp-content/uploads/20
 22/02/jam-jar-ingredients-blue.jpg
CATEGORIES:CI Jam
LOCATION:Centre for Whole Health\, 12 Victoria Place\, Bristol\, BS3 3BP\, 
 United Kingdom
X-APPLE-STRUCTURED-LOCATION;VALUE=URI;X-ADDRESS=12 Victoria Place\, Bristol
 \, BS3 3BP\, United Kingdom;X-APPLE-RADIUS=100;X-TITLE=Centre for Whole He
 alth:geo:0,0
END:VEVENT
BEGIN:VTIMEZONE
TZID:Europe/London
X-LIC-LOCATION:Europe/London
BEGIN:DAYLIGHT
DTSTART:20220327T020000
TZOFFSETFROM:+0000
TZOFFSETTO:+0100
TZNAME:BST
END:DAYLIGHT
END:VTIMEZONE
END:VCALENDAR