BEGIN:VCALENDAR
VERSION:2.0
PRODID:-//wp-events-plugin.com//7.2.3.1//EN
TZID:Europe/London
X-WR-TIMEZONE:Europe/London
BEGIN:VEVENT
UID:2496@contactdance.co.uk
DTSTART;TZID=Europe/London:20220507T140000
DTEND;TZID=Europe/London:20220507T170000
DTSTAMP:20220503T094835Z
URL:https://contactdance.co.uk/events/contact-improvisation-jam-in-the-par
 k/
SUMMARY:Contact Improvisation Jam in the Park! - The Old Bowling Green\, Br
 andon Hill Park - 7 May 22 14:00
DESCRIPTION:\n\nInformal contact improv jam.\nAll levels of experience welc
 ome\nFeel free to bring yourselves\, your friends\, snacks to share and mu
 sic. Weather forecast is good!\n\nTest Simon on 07947 236642 if you can't 
 find it.
CATEGORIES:CI Jam
LOCATION:The Old Bowling Green\, Brandon Hill Park\, Park Street\, Bristol\
 , BS1 5RR\, United Kingdom
GEO:51.453750252491126;-2.6075588106200485
X-APPLE-STRUCTURED-LOCATION;VALUE=URI;X-ADDRESS=Park Street\, Bristol\, BS1
  5RR\, United Kingdom;X-APPLE-RADIUS=100;X-TITLE=The Old Bowling Green\, B
 randon Hill Park:geo:51.453750252491126,-2.6075588106200485
END:VEVENT
BEGIN:VTIMEZONE
TZID:Europe/London
X-LIC-LOCATION:Europe/London
BEGIN:DAYLIGHT
DTSTART:20220327T020000
TZOFFSETFROM:+0000
TZOFFSETTO:+0100
TZNAME:BST
END:DAYLIGHT
END:VTIMEZONE
END:VCALENDAR